BEGIN:VCALENDAR
VERSION:2.0
PRODID:-//River Of Life Christian Fellowship Church - ECPv6.15.20//NONSGML v1.0//EN
CALSCALE:GREGORIAN
METHOD:PUBLISH
X-WR-CALNAME:River Of Life Christian Fellowship Church
X-ORIGINAL-URL:https://riveroflifecfc.org
X-WR-CALDESC:Events for River Of Life Christian Fellowship Church
REFRESH-INTERVAL;VALUE=DURATION:PT1H
X-Robots-Tag:noindex
X-PUBLISHED-TTL:PT1H
BEGIN:VTIMEZONE
TZID:America/New_York
BEGIN:DAYLIGHT
TZOFFSETFROM:-0500
TZOFFSETTO:-0400
TZNAME:EDT
DTSTART:20270314T070000
END:DAYLIGHT
BEGIN:STANDARD
TZOFFSETFROM:-0400
TZOFFSETTO:-0500
TZNAME:EST
DTSTART:20271107T060000
END:STANDARD
BEGIN:DAYLIGHT
TZOFFSETFROM:-0500
TZOFFSETTO:-0400
TZNAME:EDT
DTSTART:20280312T070000
END:DAYLIGHT
BEGIN:STANDARD
TZOFFSETFROM:-0400
TZOFFSETTO:-0500
TZNAME:EST
DTSTART:20281105T060000
END:STANDARD
BEGIN:DAYLIGHT
TZOFFSETFROM:-0500
TZOFFSETTO:-0400
TZNAME:EDT
DTSTART:20290311T070000
END:DAYLIGHT
BEGIN:STANDARD
TZOFFSETFROM:-0400
TZOFFSETTO:-0500
TZNAME:EST
DTSTART:20291104T060000
END:STANDARD
END:VTIMEZONE
BEGIN:VEVENT
DTSTART;TZID=America/New_York:20280621T183000
DTEND;TZID=America/New_York:20280621T200000
DTSTAMP:20260422T180158
CREATED:20251114T125444Z
LAST-MODIFIED:20260402T015714Z
UID:10000173-1845225000-1845230400@riveroflifecfc.org
SUMMARY:Weekly Church School (Sunday School)
DESCRIPTION:Weekly Church School (Sunday School) \nHeld on Zoom \nZoom Meeting ID – 475 497 5974 \nRiver of Life Christian Fellowship is inviting you to a scheduled Zoom meeting. \nJoin Zoom Meeting \nhttps://us02web.zoom.us/j/4754975974?omn=84818782105
URL:https://riveroflifecfc.org/event/weekly-church-school-sunday-school-8/2028-06-21/
LOCATION:Zoom
CATEGORIES:Zoom Meeting
ORGANIZER;CN="River Of Life Christian Fellowship Church":MAILTO:sec@riveroflifecfc.org
END:VEVENT
BEGIN:VEVENT
DTSTART;TZID=America/New_York:20280625T100000
DTEND;TZID=America/New_York:20280625T120000
DTSTAMP:20260422T180158
CREATED:20251108T014036Z
LAST-MODIFIED:20260402T020402Z
UID:10000721-1845540000-1845547200@riveroflifecfc.org
SUMMARY:River Of Life Sunday Church Service
DESCRIPTION:River Of Life Sunday Church Service
URL:https://riveroflifecfc.org/event/river-of-life-sunday-church-service/2028-06-25/
LOCATION:Candlewood Hotel\, 4216 Old Philadephia Road\, Bel Air\, MD\, 21015\, United States
CATEGORIES:Church,Service
ORGANIZER;CN="River Of Life Christian Fellowship Church":MAILTO:sec@riveroflifecfc.org
END:VEVENT
BEGIN:VEVENT
DTSTART;TZID=America/New_York:20280627T183000
DTEND;TZID=America/New_York:20280627T200000
DTSTAMP:20260422T180158
CREATED:20251114T124712Z
LAST-MODIFIED:20260402T020100Z
UID:10000444-1845743400-1845748800@riveroflifecfc.org
SUMMARY:Weekly Bible Study
DESCRIPTION:Weekly Bible Study \nHeld on Zoom \nZoom Meeting ID – 475 497 5974 \nRiver of Life Christian Fellowship is inviting you to a scheduled Zoom meeting. \nJoin Zoom Meeting \nhttps://us02web.zoom.us/j/4754975974?omn=84818782105
URL:https://riveroflifecfc.org/event/weekly-bible-study-4/2028-06-27/
LOCATION:Zoom
CATEGORIES:Zoom Meeting
ORGANIZER;CN="River Of Life Christian Fellowship Church":MAILTO:sec@riveroflifecfc.org
END:VEVENT
BEGIN:VEVENT
DTSTART;TZID=America/New_York:20280628T183000
DTEND;TZID=America/New_York:20280628T200000
DTSTAMP:20260422T180158
CREATED:20251114T125444Z
LAST-MODIFIED:20260402T015714Z
UID:10000174-1845829800-1845835200@riveroflifecfc.org
SUMMARY:Weekly Church School (Sunday School)
DESCRIPTION:Weekly Church School (Sunday School) \nHeld on Zoom \nZoom Meeting ID – 475 497 5974 \nRiver of Life Christian Fellowship is inviting you to a scheduled Zoom meeting. \nJoin Zoom Meeting \nhttps://us02web.zoom.us/j/4754975974?omn=84818782105
URL:https://riveroflifecfc.org/event/weekly-church-school-sunday-school-8/2028-06-28/
LOCATION:Zoom
CATEGORIES:Zoom Meeting
ORGANIZER;CN="River Of Life Christian Fellowship Church":MAILTO:sec@riveroflifecfc.org
END:VEVENT
BEGIN:VEVENT
DTSTART;TZID=America/New_York:20280702T100000
DTEND;TZID=America/New_York:20280702T120000
DTSTAMP:20260422T180158
CREATED:20251108T014036Z
LAST-MODIFIED:20260402T020402Z
UID:10000722-1846144800-1846152000@riveroflifecfc.org
SUMMARY:River Of Life Sunday Church Service
DESCRIPTION:River Of Life Sunday Church Service
URL:https://riveroflifecfc.org/event/river-of-life-sunday-church-service/2028-07-02/
LOCATION:Candlewood Hotel\, 4216 Old Philadephia Road\, Bel Air\, MD\, 21015\, United States
CATEGORIES:Church,Service
ORGANIZER;CN="River Of Life Christian Fellowship Church":MAILTO:sec@riveroflifecfc.org
END:VEVENT
BEGIN:VEVENT
DTSTART;TZID=America/New_York:20280704T183000
DTEND;TZID=America/New_York:20280704T200000
DTSTAMP:20260422T180158
CREATED:20251114T124712Z
LAST-MODIFIED:20260402T020100Z
UID:10000445-1846348200-1846353600@riveroflifecfc.org
SUMMARY:Weekly Bible Study
DESCRIPTION:Weekly Bible Study \nHeld on Zoom \nZoom Meeting ID – 475 497 5974 \nRiver of Life Christian Fellowship is inviting you to a scheduled Zoom meeting. \nJoin Zoom Meeting \nhttps://us02web.zoom.us/j/4754975974?omn=84818782105
URL:https://riveroflifecfc.org/event/weekly-bible-study-4/2028-07-04/
LOCATION:Zoom
CATEGORIES:Zoom Meeting
ORGANIZER;CN="River Of Life Christian Fellowship Church":MAILTO:sec@riveroflifecfc.org
END:VEVENT
BEGIN:VEVENT
DTSTART;TZID=America/New_York:20280705T183000
DTEND;TZID=America/New_York:20280705T200000
DTSTAMP:20260422T180159
CREATED:20251114T125444Z
LAST-MODIFIED:20260402T015714Z
UID:10000175-1846434600-1846440000@riveroflifecfc.org
SUMMARY:Weekly Church School (Sunday School)
DESCRIPTION:Weekly Church School (Sunday School) \nHeld on Zoom \nZoom Meeting ID – 475 497 5974 \nRiver of Life Christian Fellowship is inviting you to a scheduled Zoom meeting. \nJoin Zoom Meeting \nhttps://us02web.zoom.us/j/4754975974?omn=84818782105
URL:https://riveroflifecfc.org/event/weekly-church-school-sunday-school-8/2028-07-05/
LOCATION:Zoom
CATEGORIES:Zoom Meeting
ORGANIZER;CN="River Of Life Christian Fellowship Church":MAILTO:sec@riveroflifecfc.org
END:VEVENT
BEGIN:VEVENT
DTSTART;TZID=America/New_York:20280709T100000
DTEND;TZID=America/New_York:20280709T120000
DTSTAMP:20260422T180159
CREATED:20251108T014036Z
LAST-MODIFIED:20260402T020402Z
UID:10000723-1846749600-1846756800@riveroflifecfc.org
SUMMARY:River Of Life Sunday Church Service
DESCRIPTION:River Of Life Sunday Church Service
URL:https://riveroflifecfc.org/event/river-of-life-sunday-church-service/2028-07-09/
LOCATION:Candlewood Hotel\, 4216 Old Philadephia Road\, Bel Air\, MD\, 21015\, United States
CATEGORIES:Church,Service
ORGANIZER;CN="River Of Life Christian Fellowship Church":MAILTO:sec@riveroflifecfc.org
END:VEVENT
BEGIN:VEVENT
DTSTART;TZID=America/New_York:20280711T183000
DTEND;TZID=America/New_York:20280711T200000
DTSTAMP:20260422T180159
CREATED:20251114T124712Z
LAST-MODIFIED:20260402T020100Z
UID:10000446-1846953000-1846958400@riveroflifecfc.org
SUMMARY:Weekly Bible Study
DESCRIPTION:Weekly Bible Study \nHeld on Zoom \nZoom Meeting ID – 475 497 5974 \nRiver of Life Christian Fellowship is inviting you to a scheduled Zoom meeting. \nJoin Zoom Meeting \nhttps://us02web.zoom.us/j/4754975974?omn=84818782105
URL:https://riveroflifecfc.org/event/weekly-bible-study-4/2028-07-11/
LOCATION:Zoom
CATEGORIES:Zoom Meeting
ORGANIZER;CN="River Of Life Christian Fellowship Church":MAILTO:sec@riveroflifecfc.org
END:VEVENT
BEGIN:VEVENT
DTSTART;TZID=America/New_York:20280712T183000
DTEND;TZID=America/New_York:20280712T200000
DTSTAMP:20260422T180159
CREATED:20251114T125444Z
LAST-MODIFIED:20260402T015714Z
UID:10000176-1847039400-1847044800@riveroflifecfc.org
SUMMARY:Weekly Church School (Sunday School)
DESCRIPTION:Weekly Church School (Sunday School) \nHeld on Zoom \nZoom Meeting ID – 475 497 5974 \nRiver of Life Christian Fellowship is inviting you to a scheduled Zoom meeting. \nJoin Zoom Meeting \nhttps://us02web.zoom.us/j/4754975974?omn=84818782105
URL:https://riveroflifecfc.org/event/weekly-church-school-sunday-school-8/2028-07-12/
LOCATION:Zoom
CATEGORIES:Zoom Meeting
ORGANIZER;CN="River Of Life Christian Fellowship Church":MAILTO:sec@riveroflifecfc.org
END:VEVENT
BEGIN:VEVENT
DTSTART;TZID=America/New_York:20280716T100000
DTEND;TZID=America/New_York:20280716T120000
DTSTAMP:20260422T180159
CREATED:20251108T014036Z
LAST-MODIFIED:20260402T020402Z
UID:10000724-1847354400-1847361600@riveroflifecfc.org
SUMMARY:River Of Life Sunday Church Service
DESCRIPTION:River Of Life Sunday Church Service
URL:https://riveroflifecfc.org/event/river-of-life-sunday-church-service/2028-07-16/
LOCATION:Candlewood Hotel\, 4216 Old Philadephia Road\, Bel Air\, MD\, 21015\, United States
CATEGORIES:Church,Service
ORGANIZER;CN="River Of Life Christian Fellowship Church":MAILTO:sec@riveroflifecfc.org
END:VEVENT
BEGIN:VEVENT
DTSTART;TZID=America/New_York:20280718T183000
DTEND;TZID=America/New_York:20280718T200000
DTSTAMP:20260422T180159
CREATED:20251114T124712Z
LAST-MODIFIED:20260402T020100Z
UID:10000447-1847557800-1847563200@riveroflifecfc.org
SUMMARY:Weekly Bible Study
DESCRIPTION:Weekly Bible Study \nHeld on Zoom \nZoom Meeting ID – 475 497 5974 \nRiver of Life Christian Fellowship is inviting you to a scheduled Zoom meeting. \nJoin Zoom Meeting \nhttps://us02web.zoom.us/j/4754975974?omn=84818782105
URL:https://riveroflifecfc.org/event/weekly-bible-study-4/2028-07-18/
LOCATION:Zoom
CATEGORIES:Zoom Meeting
ORGANIZER;CN="River Of Life Christian Fellowship Church":MAILTO:sec@riveroflifecfc.org
END:VEVENT
BEGIN:VEVENT
DTSTART;TZID=America/New_York:20280719T183000
DTEND;TZID=America/New_York:20280719T200000
DTSTAMP:20260422T180159
CREATED:20251114T125444Z
LAST-MODIFIED:20260402T015714Z
UID:10000177-1847644200-1847649600@riveroflifecfc.org
SUMMARY:Weekly Church School (Sunday School)
DESCRIPTION:Weekly Church School (Sunday School) \nHeld on Zoom \nZoom Meeting ID – 475 497 5974 \nRiver of Life Christian Fellowship is inviting you to a scheduled Zoom meeting. \nJoin Zoom Meeting \nhttps://us02web.zoom.us/j/4754975974?omn=84818782105
URL:https://riveroflifecfc.org/event/weekly-church-school-sunday-school-8/2028-07-19/
LOCATION:Zoom
CATEGORIES:Zoom Meeting
ORGANIZER;CN="River Of Life Christian Fellowship Church":MAILTO:sec@riveroflifecfc.org
END:VEVENT
BEGIN:VEVENT
DTSTART;TZID=America/New_York:20280723T100000
DTEND;TZID=America/New_York:20280723T120000
DTSTAMP:20260422T180159
CREATED:20251108T014036Z
LAST-MODIFIED:20260402T020402Z
UID:10000725-1847959200-1847966400@riveroflifecfc.org
SUMMARY:River Of Life Sunday Church Service
DESCRIPTION:River Of Life Sunday Church Service
URL:https://riveroflifecfc.org/event/river-of-life-sunday-church-service/2028-07-23/
LOCATION:Candlewood Hotel\, 4216 Old Philadephia Road\, Bel Air\, MD\, 21015\, United States
CATEGORIES:Church,Service
ORGANIZER;CN="River Of Life Christian Fellowship Church":MAILTO:sec@riveroflifecfc.org
END:VEVENT
BEGIN:VEVENT
DTSTART;TZID=America/New_York:20280725T183000
DTEND;TZID=America/New_York:20280725T200000
DTSTAMP:20260422T180159
CREATED:20251114T124712Z
LAST-MODIFIED:20260402T020100Z
UID:10000448-1848162600-1848168000@riveroflifecfc.org
SUMMARY:Weekly Bible Study
DESCRIPTION:Weekly Bible Study \nHeld on Zoom \nZoom Meeting ID – 475 497 5974 \nRiver of Life Christian Fellowship is inviting you to a scheduled Zoom meeting. \nJoin Zoom Meeting \nhttps://us02web.zoom.us/j/4754975974?omn=84818782105
URL:https://riveroflifecfc.org/event/weekly-bible-study-4/2028-07-25/
LOCATION:Zoom
CATEGORIES:Zoom Meeting
ORGANIZER;CN="River Of Life Christian Fellowship Church":MAILTO:sec@riveroflifecfc.org
END:VEVENT
BEGIN:VEVENT
DTSTART;TZID=America/New_York:20280726T183000
DTEND;TZID=America/New_York:20280726T200000
DTSTAMP:20260422T180159
CREATED:20251114T125444Z
LAST-MODIFIED:20260402T015714Z
UID:10000178-1848249000-1848254400@riveroflifecfc.org
SUMMARY:Weekly Church School (Sunday School)
DESCRIPTION:Weekly Church School (Sunday School) \nHeld on Zoom \nZoom Meeting ID – 475 497 5974 \nRiver of Life Christian Fellowship is inviting you to a scheduled Zoom meeting. \nJoin Zoom Meeting \nhttps://us02web.zoom.us/j/4754975974?omn=84818782105
URL:https://riveroflifecfc.org/event/weekly-church-school-sunday-school-8/2028-07-26/
LOCATION:Zoom
CATEGORIES:Zoom Meeting
ORGANIZER;CN="River Of Life Christian Fellowship Church":MAILTO:sec@riveroflifecfc.org
END:VEVENT
BEGIN:VEVENT
DTSTART;TZID=America/New_York:20280730T100000
DTEND;TZID=America/New_York:20280730T120000
DTSTAMP:20260422T180159
CREATED:20251108T014036Z
LAST-MODIFIED:20260402T020402Z
UID:10000726-1848564000-1848571200@riveroflifecfc.org
SUMMARY:River Of Life Sunday Church Service
DESCRIPTION:River Of Life Sunday Church Service
URL:https://riveroflifecfc.org/event/river-of-life-sunday-church-service/2028-07-30/
LOCATION:Candlewood Hotel\, 4216 Old Philadephia Road\, Bel Air\, MD\, 21015\, United States
CATEGORIES:Church,Service
ORGANIZER;CN="River Of Life Christian Fellowship Church":MAILTO:sec@riveroflifecfc.org
END:VEVENT
BEGIN:VEVENT
DTSTART;TZID=America/New_York:20280801T183000
DTEND;TZID=America/New_York:20280801T200000
DTSTAMP:20260422T180159
CREATED:20251114T124712Z
LAST-MODIFIED:20260402T020100Z
UID:10000449-1848767400-1848772800@riveroflifecfc.org
SUMMARY:Weekly Bible Study
DESCRIPTION:Weekly Bible Study \nHeld on Zoom \nZoom Meeting ID – 475 497 5974 \nRiver of Life Christian Fellowship is inviting you to a scheduled Zoom meeting. \nJoin Zoom Meeting \nhttps://us02web.zoom.us/j/4754975974?omn=84818782105
URL:https://riveroflifecfc.org/event/weekly-bible-study-4/2028-08-01/
LOCATION:Zoom
CATEGORIES:Zoom Meeting
ORGANIZER;CN="River Of Life Christian Fellowship Church":MAILTO:sec@riveroflifecfc.org
END:VEVENT
BEGIN:VEVENT
DTSTART;TZID=America/New_York:20280802T183000
DTEND;TZID=America/New_York:20280802T200000
DTSTAMP:20260422T180159
CREATED:20251114T125444Z
LAST-MODIFIED:20260402T015714Z
UID:10000179-1848853800-1848859200@riveroflifecfc.org
SUMMARY:Weekly Church School (Sunday School)
DESCRIPTION:Weekly Church School (Sunday School) \nHeld on Zoom \nZoom Meeting ID – 475 497 5974 \nRiver of Life Christian Fellowship is inviting you to a scheduled Zoom meeting. \nJoin Zoom Meeting \nhttps://us02web.zoom.us/j/4754975974?omn=84818782105
URL:https://riveroflifecfc.org/event/weekly-church-school-sunday-school-8/2028-08-02/
LOCATION:Zoom
CATEGORIES:Zoom Meeting
ORGANIZER;CN="River Of Life Christian Fellowship Church":MAILTO:sec@riveroflifecfc.org
END:VEVENT
BEGIN:VEVENT
DTSTART;TZID=America/New_York:20280806T100000
DTEND;TZID=America/New_York:20280806T120000
DTSTAMP:20260422T180159
CREATED:20251108T014036Z
LAST-MODIFIED:20260402T020402Z
UID:10000727-1849168800-1849176000@riveroflifecfc.org
SUMMARY:River Of Life Sunday Church Service
DESCRIPTION:River Of Life Sunday Church Service
URL:https://riveroflifecfc.org/event/river-of-life-sunday-church-service/2028-08-06/
LOCATION:Candlewood Hotel\, 4216 Old Philadephia Road\, Bel Air\, MD\, 21015\, United States
CATEGORIES:Church,Service
ORGANIZER;CN="River Of Life Christian Fellowship Church":MAILTO:sec@riveroflifecfc.org
END:VEVENT
BEGIN:VEVENT
DTSTART;TZID=America/New_York:20280808T183000
DTEND;TZID=America/New_York:20280808T200000
DTSTAMP:20260422T180159
CREATED:20251114T124712Z
LAST-MODIFIED:20260402T020100Z
UID:10000450-1849372200-1849377600@riveroflifecfc.org
SUMMARY:Weekly Bible Study
DESCRIPTION:Weekly Bible Study \nHeld on Zoom \nZoom Meeting ID – 475 497 5974 \nRiver of Life Christian Fellowship is inviting you to a scheduled Zoom meeting. \nJoin Zoom Meeting \nhttps://us02web.zoom.us/j/4754975974?omn=84818782105
URL:https://riveroflifecfc.org/event/weekly-bible-study-4/2028-08-08/
LOCATION:Zoom
CATEGORIES:Zoom Meeting
ORGANIZER;CN="River Of Life Christian Fellowship Church":MAILTO:sec@riveroflifecfc.org
END:VEVENT
BEGIN:VEVENT
DTSTART;TZID=America/New_York:20280809T183000
DTEND;TZID=America/New_York:20280809T200000
DTSTAMP:20260422T180159
CREATED:20251114T125444Z
LAST-MODIFIED:20260402T015714Z
UID:10000180-1849458600-1849464000@riveroflifecfc.org
SUMMARY:Weekly Church School (Sunday School)
DESCRIPTION:Weekly Church School (Sunday School) \nHeld on Zoom \nZoom Meeting ID – 475 497 5974 \nRiver of Life Christian Fellowship is inviting you to a scheduled Zoom meeting. \nJoin Zoom Meeting \nhttps://us02web.zoom.us/j/4754975974?omn=84818782105
URL:https://riveroflifecfc.org/event/weekly-church-school-sunday-school-8/2028-08-09/
LOCATION:Zoom
CATEGORIES:Zoom Meeting
ORGANIZER;CN="River Of Life Christian Fellowship Church":MAILTO:sec@riveroflifecfc.org
END:VEVENT
BEGIN:VEVENT
DTSTART;TZID=America/New_York:20280813T100000
DTEND;TZID=America/New_York:20280813T120000
DTSTAMP:20260422T180159
CREATED:20251108T014036Z
LAST-MODIFIED:20260402T020402Z
UID:10000728-1849773600-1849780800@riveroflifecfc.org
SUMMARY:River Of Life Sunday Church Service
DESCRIPTION:River Of Life Sunday Church Service
URL:https://riveroflifecfc.org/event/river-of-life-sunday-church-service/2028-08-13/
LOCATION:Candlewood Hotel\, 4216 Old Philadephia Road\, Bel Air\, MD\, 21015\, United States
CATEGORIES:Church,Service
ORGANIZER;CN="River Of Life Christian Fellowship Church":MAILTO:sec@riveroflifecfc.org
END:VEVENT
BEGIN:VEVENT
DTSTART;TZID=America/New_York:20280815T183000
DTEND;TZID=America/New_York:20280815T200000
DTSTAMP:20260422T180159
CREATED:20251114T124712Z
LAST-MODIFIED:20260402T020100Z
UID:10000451-1849977000-1849982400@riveroflifecfc.org
SUMMARY:Weekly Bible Study
DESCRIPTION:Weekly Bible Study \nHeld on Zoom \nZoom Meeting ID – 475 497 5974 \nRiver of Life Christian Fellowship is inviting you to a scheduled Zoom meeting. \nJoin Zoom Meeting \nhttps://us02web.zoom.us/j/4754975974?omn=84818782105
URL:https://riveroflifecfc.org/event/weekly-bible-study-4/2028-08-15/
LOCATION:Zoom
CATEGORIES:Zoom Meeting
ORGANIZER;CN="River Of Life Christian Fellowship Church":MAILTO:sec@riveroflifecfc.org
END:VEVENT
BEGIN:VEVENT
DTSTART;TZID=America/New_York:20280816T183000
DTEND;TZID=America/New_York:20280816T200000
DTSTAMP:20260422T180159
CREATED:20251114T125444Z
LAST-MODIFIED:20260402T015714Z
UID:10000181-1850063400-1850068800@riveroflifecfc.org
SUMMARY:Weekly Church School (Sunday School)
DESCRIPTION:Weekly Church School (Sunday School) \nHeld on Zoom \nZoom Meeting ID – 475 497 5974 \nRiver of Life Christian Fellowship is inviting you to a scheduled Zoom meeting. \nJoin Zoom Meeting \nhttps://us02web.zoom.us/j/4754975974?omn=84818782105
URL:https://riveroflifecfc.org/event/weekly-church-school-sunday-school-8/2028-08-16/
LOCATION:Zoom
CATEGORIES:Zoom Meeting
ORGANIZER;CN="River Of Life Christian Fellowship Church":MAILTO:sec@riveroflifecfc.org
END:VEVENT
BEGIN:VEVENT
DTSTART;TZID=America/New_York:20280820T100000
DTEND;TZID=America/New_York:20280820T120000
DTSTAMP:20260422T180159
CREATED:20251108T014036Z
LAST-MODIFIED:20260402T020402Z
UID:10000729-1850378400-1850385600@riveroflifecfc.org
SUMMARY:River Of Life Sunday Church Service
DESCRIPTION:River Of Life Sunday Church Service
URL:https://riveroflifecfc.org/event/river-of-life-sunday-church-service/2028-08-20/
LOCATION:Candlewood Hotel\, 4216 Old Philadephia Road\, Bel Air\, MD\, 21015\, United States
CATEGORIES:Church,Service
ORGANIZER;CN="River Of Life Christian Fellowship Church":MAILTO:sec@riveroflifecfc.org
END:VEVENT
BEGIN:VEVENT
DTSTART;TZID=America/New_York:20280822T183000
DTEND;TZID=America/New_York:20280822T200000
DTSTAMP:20260422T180159
CREATED:20251114T124712Z
LAST-MODIFIED:20260402T020100Z
UID:10000452-1850581800-1850587200@riveroflifecfc.org
SUMMARY:Weekly Bible Study
DESCRIPTION:Weekly Bible Study \nHeld on Zoom \nZoom Meeting ID – 475 497 5974 \nRiver of Life Christian Fellowship is inviting you to a scheduled Zoom meeting. \nJoin Zoom Meeting \nhttps://us02web.zoom.us/j/4754975974?omn=84818782105
URL:https://riveroflifecfc.org/event/weekly-bible-study-4/2028-08-22/
LOCATION:Zoom
CATEGORIES:Zoom Meeting
ORGANIZER;CN="River Of Life Christian Fellowship Church":MAILTO:sec@riveroflifecfc.org
END:VEVENT
BEGIN:VEVENT
DTSTART;TZID=America/New_York:20280823T183000
DTEND;TZID=America/New_York:20280823T200000
DTSTAMP:20260422T180159
CREATED:20251114T125444Z
LAST-MODIFIED:20260402T015714Z
UID:10000182-1850668200-1850673600@riveroflifecfc.org
SUMMARY:Weekly Church School (Sunday School)
DESCRIPTION:Weekly Church School (Sunday School) \nHeld on Zoom \nZoom Meeting ID – 475 497 5974 \nRiver of Life Christian Fellowship is inviting you to a scheduled Zoom meeting. \nJoin Zoom Meeting \nhttps://us02web.zoom.us/j/4754975974?omn=84818782105
URL:https://riveroflifecfc.org/event/weekly-church-school-sunday-school-8/2028-08-23/
LOCATION:Zoom
CATEGORIES:Zoom Meeting
ORGANIZER;CN="River Of Life Christian Fellowship Church":MAILTO:sec@riveroflifecfc.org
END:VEVENT
BEGIN:VEVENT
DTSTART;TZID=America/New_York:20280827T100000
DTEND;TZID=America/New_York:20280827T120000
DTSTAMP:20260422T180159
CREATED:20251108T014036Z
LAST-MODIFIED:20260402T020402Z
UID:10000730-1850983200-1850990400@riveroflifecfc.org
SUMMARY:River Of Life Sunday Church Service
DESCRIPTION:River Of Life Sunday Church Service
URL:https://riveroflifecfc.org/event/river-of-life-sunday-church-service/2028-08-27/
LOCATION:Candlewood Hotel\, 4216 Old Philadephia Road\, Bel Air\, MD\, 21015\, United States
CATEGORIES:Church,Service
ORGANIZER;CN="River Of Life Christian Fellowship Church":MAILTO:sec@riveroflifecfc.org
END:VEVENT
BEGIN:VEVENT
DTSTART;TZID=America/New_York:20280829T183000
DTEND;TZID=America/New_York:20280829T200000
DTSTAMP:20260422T180159
CREATED:20251114T124712Z
LAST-MODIFIED:20260402T020100Z
UID:10000453-1851186600-1851192000@riveroflifecfc.org
SUMMARY:Weekly Bible Study
DESCRIPTION:Weekly Bible Study \nHeld on Zoom \nZoom Meeting ID – 475 497 5974 \nRiver of Life Christian Fellowship is inviting you to a scheduled Zoom meeting. \nJoin Zoom Meeting \nhttps://us02web.zoom.us/j/4754975974?omn=84818782105
URL:https://riveroflifecfc.org/event/weekly-bible-study-4/2028-08-29/
LOCATION:Zoom
CATEGORIES:Zoom Meeting
ORGANIZER;CN="River Of Life Christian Fellowship Church":MAILTO:sec@riveroflifecfc.org
END:VEVENT
END:VCALENDAR