BEGIN:VCALENDAR
VERSION:2.0
PRODID:-//River Of Life Christian Fellowship Church - ECPv6.15.20//NONSGML v1.0//EN
CALSCALE:GREGORIAN
METHOD:PUBLISH
X-WR-CALNAME:River Of Life Christian Fellowship Church
X-ORIGINAL-URL:https://riveroflifecfc.org
X-WR-CALDESC:Events for River Of Life Christian Fellowship Church
REFRESH-INTERVAL;VALUE=DURATION:PT1H
X-Robots-Tag:noindex
X-PUBLISHED-TTL:PT1H
BEGIN:VTIMEZONE
TZID:America/New_York
BEGIN:DAYLIGHT
TZOFFSETFROM:-0500
TZOFFSETTO:-0400
TZNAME:EDT
DTSTART:20270314T070000
END:DAYLIGHT
BEGIN:STANDARD
TZOFFSETFROM:-0400
TZOFFSETTO:-0500
TZNAME:EST
DTSTART:20271107T060000
END:STANDARD
BEGIN:DAYLIGHT
TZOFFSETFROM:-0500
TZOFFSETTO:-0400
TZNAME:EDT
DTSTART:20280312T070000
END:DAYLIGHT
BEGIN:STANDARD
TZOFFSETFROM:-0400
TZOFFSETTO:-0500
TZNAME:EST
DTSTART:20281105T060000
END:STANDARD
BEGIN:DAYLIGHT
TZOFFSETFROM:-0500
TZOFFSETTO:-0400
TZNAME:EDT
DTSTART:20290311T070000
END:DAYLIGHT
BEGIN:STANDARD
TZOFFSETFROM:-0400
TZOFFSETTO:-0500
TZNAME:EST
DTSTART:20291104T060000
END:STANDARD
END:VTIMEZONE
BEGIN:VEVENT
DTSTART;TZID=America/New_York:20280123T100000
DTEND;TZID=America/New_York:20280123T120000
DTSTAMP:20260422T040616
CREATED:20251108T014036Z
LAST-MODIFIED:20260402T020402Z
UID:10000699-1832234400-1832241600@riveroflifecfc.org
SUMMARY:River Of Life Sunday Church Service
DESCRIPTION:River Of Life Sunday Church Service
URL:https://riveroflifecfc.org/event/river-of-life-sunday-church-service/2028-01-23/
LOCATION:Candlewood Hotel\, 4216 Old Philadephia Road\, Bel Air\, MD\, 21015\, United States
CATEGORIES:Church,Service
ORGANIZER;CN="River Of Life Christian Fellowship Church":MAILTO:sec@riveroflifecfc.org
END:VEVENT
BEGIN:VEVENT
DTSTART;TZID=America/New_York:20280125T183000
DTEND;TZID=America/New_York:20280125T200000
DTSTAMP:20260422T040616
CREATED:20251114T124712Z
LAST-MODIFIED:20260402T020100Z
UID:10000422-1832437800-1832443200@riveroflifecfc.org
SUMMARY:Weekly Bible Study
DESCRIPTION:Weekly Bible Study \nHeld on Zoom \nZoom Meeting ID – 475 497 5974 \nRiver of Life Christian Fellowship is inviting you to a scheduled Zoom meeting. \nJoin Zoom Meeting \nhttps://us02web.zoom.us/j/4754975974?omn=84818782105
URL:https://riveroflifecfc.org/event/weekly-bible-study-4/2028-01-25/
LOCATION:Zoom
CATEGORIES:Zoom Meeting
ORGANIZER;CN="River Of Life Christian Fellowship Church":MAILTO:sec@riveroflifecfc.org
END:VEVENT
BEGIN:VEVENT
DTSTART;TZID=America/New_York:20280126T183000
DTEND;TZID=America/New_York:20280126T200000
DTSTAMP:20260422T040616
CREATED:20251114T125444Z
LAST-MODIFIED:20260402T015714Z
UID:10000152-1832524200-1832529600@riveroflifecfc.org
SUMMARY:Weekly Church School (Sunday School)
DESCRIPTION:Weekly Church School (Sunday School) \nHeld on Zoom \nZoom Meeting ID – 475 497 5974 \nRiver of Life Christian Fellowship is inviting you to a scheduled Zoom meeting. \nJoin Zoom Meeting \nhttps://us02web.zoom.us/j/4754975974?omn=84818782105
URL:https://riveroflifecfc.org/event/weekly-church-school-sunday-school-8/2028-01-26/
LOCATION:Zoom
CATEGORIES:Zoom Meeting
ORGANIZER;CN="River Of Life Christian Fellowship Church":MAILTO:sec@riveroflifecfc.org
END:VEVENT
BEGIN:VEVENT
DTSTART;TZID=America/New_York:20280130T100000
DTEND;TZID=America/New_York:20280130T120000
DTSTAMP:20260422T040616
CREATED:20251108T014036Z
LAST-MODIFIED:20260402T020402Z
UID:10000700-1832839200-1832846400@riveroflifecfc.org
SUMMARY:River Of Life Sunday Church Service
DESCRIPTION:River Of Life Sunday Church Service
URL:https://riveroflifecfc.org/event/river-of-life-sunday-church-service/2028-01-30/
LOCATION:Candlewood Hotel\, 4216 Old Philadephia Road\, Bel Air\, MD\, 21015\, United States
CATEGORIES:Church,Service
ORGANIZER;CN="River Of Life Christian Fellowship Church":MAILTO:sec@riveroflifecfc.org
END:VEVENT
BEGIN:VEVENT
DTSTART;TZID=America/New_York:20280201T183000
DTEND;TZID=America/New_York:20280201T200000
DTSTAMP:20260422T040616
CREATED:20251114T124712Z
LAST-MODIFIED:20260402T020100Z
UID:10000423-1833042600-1833048000@riveroflifecfc.org
SUMMARY:Weekly Bible Study
DESCRIPTION:Weekly Bible Study \nHeld on Zoom \nZoom Meeting ID – 475 497 5974 \nRiver of Life Christian Fellowship is inviting you to a scheduled Zoom meeting. \nJoin Zoom Meeting \nhttps://us02web.zoom.us/j/4754975974?omn=84818782105
URL:https://riveroflifecfc.org/event/weekly-bible-study-4/2028-02-01/
LOCATION:Zoom
CATEGORIES:Zoom Meeting
ORGANIZER;CN="River Of Life Christian Fellowship Church":MAILTO:sec@riveroflifecfc.org
END:VEVENT
BEGIN:VEVENT
DTSTART;TZID=America/New_York:20280202T183000
DTEND;TZID=America/New_York:20280202T200000
DTSTAMP:20260422T040616
CREATED:20251114T125444Z
LAST-MODIFIED:20260402T015714Z
UID:10000153-1833129000-1833134400@riveroflifecfc.org
SUMMARY:Weekly Church School (Sunday School)
DESCRIPTION:Weekly Church School (Sunday School) \nHeld on Zoom \nZoom Meeting ID – 475 497 5974 \nRiver of Life Christian Fellowship is inviting you to a scheduled Zoom meeting. \nJoin Zoom Meeting \nhttps://us02web.zoom.us/j/4754975974?omn=84818782105
URL:https://riveroflifecfc.org/event/weekly-church-school-sunday-school-8/2028-02-02/
LOCATION:Zoom
CATEGORIES:Zoom Meeting
ORGANIZER;CN="River Of Life Christian Fellowship Church":MAILTO:sec@riveroflifecfc.org
END:VEVENT
BEGIN:VEVENT
DTSTART;TZID=America/New_York:20280206T100000
DTEND;TZID=America/New_York:20280206T120000
DTSTAMP:20260422T040616
CREATED:20251108T014036Z
LAST-MODIFIED:20260402T020402Z
UID:10000701-1833444000-1833451200@riveroflifecfc.org
SUMMARY:River Of Life Sunday Church Service
DESCRIPTION:River Of Life Sunday Church Service
URL:https://riveroflifecfc.org/event/river-of-life-sunday-church-service/2028-02-06/
LOCATION:Candlewood Hotel\, 4216 Old Philadephia Road\, Bel Air\, MD\, 21015\, United States
CATEGORIES:Church,Service
ORGANIZER;CN="River Of Life Christian Fellowship Church":MAILTO:sec@riveroflifecfc.org
END:VEVENT
BEGIN:VEVENT
DTSTART;TZID=America/New_York:20280208T183000
DTEND;TZID=America/New_York:20280208T200000
DTSTAMP:20260422T040616
CREATED:20251114T124712Z
LAST-MODIFIED:20260402T020100Z
UID:10000424-1833647400-1833652800@riveroflifecfc.org
SUMMARY:Weekly Bible Study
DESCRIPTION:Weekly Bible Study \nHeld on Zoom \nZoom Meeting ID – 475 497 5974 \nRiver of Life Christian Fellowship is inviting you to a scheduled Zoom meeting. \nJoin Zoom Meeting \nhttps://us02web.zoom.us/j/4754975974?omn=84818782105
URL:https://riveroflifecfc.org/event/weekly-bible-study-4/2028-02-08/
LOCATION:Zoom
CATEGORIES:Zoom Meeting
ORGANIZER;CN="River Of Life Christian Fellowship Church":MAILTO:sec@riveroflifecfc.org
END:VEVENT
BEGIN:VEVENT
DTSTART;TZID=America/New_York:20280209T183000
DTEND;TZID=America/New_York:20280209T200000
DTSTAMP:20260422T040616
CREATED:20251114T125444Z
LAST-MODIFIED:20260402T015714Z
UID:10000154-1833733800-1833739200@riveroflifecfc.org
SUMMARY:Weekly Church School (Sunday School)
DESCRIPTION:Weekly Church School (Sunday School) \nHeld on Zoom \nZoom Meeting ID – 475 497 5974 \nRiver of Life Christian Fellowship is inviting you to a scheduled Zoom meeting. \nJoin Zoom Meeting \nhttps://us02web.zoom.us/j/4754975974?omn=84818782105
URL:https://riveroflifecfc.org/event/weekly-church-school-sunday-school-8/2028-02-09/
LOCATION:Zoom
CATEGORIES:Zoom Meeting
ORGANIZER;CN="River Of Life Christian Fellowship Church":MAILTO:sec@riveroflifecfc.org
END:VEVENT
BEGIN:VEVENT
DTSTART;TZID=America/New_York:20280213T100000
DTEND;TZID=America/New_York:20280213T120000
DTSTAMP:20260422T040616
CREATED:20251108T014036Z
LAST-MODIFIED:20260402T020402Z
UID:10000702-1834048800-1834056000@riveroflifecfc.org
SUMMARY:River Of Life Sunday Church Service
DESCRIPTION:River Of Life Sunday Church Service
URL:https://riveroflifecfc.org/event/river-of-life-sunday-church-service/2028-02-13/
LOCATION:Candlewood Hotel\, 4216 Old Philadephia Road\, Bel Air\, MD\, 21015\, United States
CATEGORIES:Church,Service
ORGANIZER;CN="River Of Life Christian Fellowship Church":MAILTO:sec@riveroflifecfc.org
END:VEVENT
BEGIN:VEVENT
DTSTART;TZID=America/New_York:20280215T183000
DTEND;TZID=America/New_York:20280215T200000
DTSTAMP:20260422T040616
CREATED:20251114T124712Z
LAST-MODIFIED:20260402T020100Z
UID:10000425-1834252200-1834257600@riveroflifecfc.org
SUMMARY:Weekly Bible Study
DESCRIPTION:Weekly Bible Study \nHeld on Zoom \nZoom Meeting ID – 475 497 5974 \nRiver of Life Christian Fellowship is inviting you to a scheduled Zoom meeting. \nJoin Zoom Meeting \nhttps://us02web.zoom.us/j/4754975974?omn=84818782105
URL:https://riveroflifecfc.org/event/weekly-bible-study-4/2028-02-15/
LOCATION:Zoom
CATEGORIES:Zoom Meeting
ORGANIZER;CN="River Of Life Christian Fellowship Church":MAILTO:sec@riveroflifecfc.org
END:VEVENT
BEGIN:VEVENT
DTSTART;TZID=America/New_York:20280216T183000
DTEND;TZID=America/New_York:20280216T200000
DTSTAMP:20260422T040616
CREATED:20251114T125444Z
LAST-MODIFIED:20260402T015714Z
UID:10000155-1834338600-1834344000@riveroflifecfc.org
SUMMARY:Weekly Church School (Sunday School)
DESCRIPTION:Weekly Church School (Sunday School) \nHeld on Zoom \nZoom Meeting ID – 475 497 5974 \nRiver of Life Christian Fellowship is inviting you to a scheduled Zoom meeting. \nJoin Zoom Meeting \nhttps://us02web.zoom.us/j/4754975974?omn=84818782105
URL:https://riveroflifecfc.org/event/weekly-church-school-sunday-school-8/2028-02-16/
LOCATION:Zoom
CATEGORIES:Zoom Meeting
ORGANIZER;CN="River Of Life Christian Fellowship Church":MAILTO:sec@riveroflifecfc.org
END:VEVENT
BEGIN:VEVENT
DTSTART;TZID=America/New_York:20280220T100000
DTEND;TZID=America/New_York:20280220T120000
DTSTAMP:20260422T040616
CREATED:20251108T014036Z
LAST-MODIFIED:20260402T020402Z
UID:10000703-1834653600-1834660800@riveroflifecfc.org
SUMMARY:River Of Life Sunday Church Service
DESCRIPTION:River Of Life Sunday Church Service
URL:https://riveroflifecfc.org/event/river-of-life-sunday-church-service/2028-02-20/
LOCATION:Candlewood Hotel\, 4216 Old Philadephia Road\, Bel Air\, MD\, 21015\, United States
CATEGORIES:Church,Service
ORGANIZER;CN="River Of Life Christian Fellowship Church":MAILTO:sec@riveroflifecfc.org
END:VEVENT
BEGIN:VEVENT
DTSTART;TZID=America/New_York:20280222T183000
DTEND;TZID=America/New_York:20280222T200000
DTSTAMP:20260422T040616
CREATED:20251114T124712Z
LAST-MODIFIED:20260402T020100Z
UID:10000426-1834857000-1834862400@riveroflifecfc.org
SUMMARY:Weekly Bible Study
DESCRIPTION:Weekly Bible Study \nHeld on Zoom \nZoom Meeting ID – 475 497 5974 \nRiver of Life Christian Fellowship is inviting you to a scheduled Zoom meeting. \nJoin Zoom Meeting \nhttps://us02web.zoom.us/j/4754975974?omn=84818782105
URL:https://riveroflifecfc.org/event/weekly-bible-study-4/2028-02-22/
LOCATION:Zoom
CATEGORIES:Zoom Meeting
ORGANIZER;CN="River Of Life Christian Fellowship Church":MAILTO:sec@riveroflifecfc.org
END:VEVENT
BEGIN:VEVENT
DTSTART;TZID=America/New_York:20280223T183000
DTEND;TZID=America/New_York:20280223T200000
DTSTAMP:20260422T040616
CREATED:20251114T125444Z
LAST-MODIFIED:20260402T015714Z
UID:10000156-1834943400-1834948800@riveroflifecfc.org
SUMMARY:Weekly Church School (Sunday School)
DESCRIPTION:Weekly Church School (Sunday School) \nHeld on Zoom \nZoom Meeting ID – 475 497 5974 \nRiver of Life Christian Fellowship is inviting you to a scheduled Zoom meeting. \nJoin Zoom Meeting \nhttps://us02web.zoom.us/j/4754975974?omn=84818782105
URL:https://riveroflifecfc.org/event/weekly-church-school-sunday-school-8/2028-02-23/
LOCATION:Zoom
CATEGORIES:Zoom Meeting
ORGANIZER;CN="River Of Life Christian Fellowship Church":MAILTO:sec@riveroflifecfc.org
END:VEVENT
BEGIN:VEVENT
DTSTART;TZID=America/New_York:20280227T100000
DTEND;TZID=America/New_York:20280227T120000
DTSTAMP:20260422T040616
CREATED:20251108T014036Z
LAST-MODIFIED:20260402T020402Z
UID:10000704-1835258400-1835265600@riveroflifecfc.org
SUMMARY:River Of Life Sunday Church Service
DESCRIPTION:River Of Life Sunday Church Service
URL:https://riveroflifecfc.org/event/river-of-life-sunday-church-service/2028-02-27/
LOCATION:Candlewood Hotel\, 4216 Old Philadephia Road\, Bel Air\, MD\, 21015\, United States
CATEGORIES:Church,Service
ORGANIZER;CN="River Of Life Christian Fellowship Church":MAILTO:sec@riveroflifecfc.org
END:VEVENT
BEGIN:VEVENT
DTSTART;TZID=America/New_York:20280229T183000
DTEND;TZID=America/New_York:20280229T200000
DTSTAMP:20260422T040616
CREATED:20251114T124712Z
LAST-MODIFIED:20260402T020100Z
UID:10000427-1835461800-1835467200@riveroflifecfc.org
SUMMARY:Weekly Bible Study
DESCRIPTION:Weekly Bible Study \nHeld on Zoom \nZoom Meeting ID – 475 497 5974 \nRiver of Life Christian Fellowship is inviting you to a scheduled Zoom meeting. \nJoin Zoom Meeting \nhttps://us02web.zoom.us/j/4754975974?omn=84818782105
URL:https://riveroflifecfc.org/event/weekly-bible-study-4/2028-02-29/
LOCATION:Zoom
CATEGORIES:Zoom Meeting
ORGANIZER;CN="River Of Life Christian Fellowship Church":MAILTO:sec@riveroflifecfc.org
END:VEVENT
BEGIN:VEVENT
DTSTART;TZID=America/New_York:20280301T183000
DTEND;TZID=America/New_York:20280301T200000
DTSTAMP:20260422T040616
CREATED:20251114T125444Z
LAST-MODIFIED:20260402T015714Z
UID:10000157-1835548200-1835553600@riveroflifecfc.org
SUMMARY:Weekly Church School (Sunday School)
DESCRIPTION:Weekly Church School (Sunday School) \nHeld on Zoom \nZoom Meeting ID – 475 497 5974 \nRiver of Life Christian Fellowship is inviting you to a scheduled Zoom meeting. \nJoin Zoom Meeting \nhttps://us02web.zoom.us/j/4754975974?omn=84818782105
URL:https://riveroflifecfc.org/event/weekly-church-school-sunday-school-8/2028-03-01/
LOCATION:Zoom
CATEGORIES:Zoom Meeting
ORGANIZER;CN="River Of Life Christian Fellowship Church":MAILTO:sec@riveroflifecfc.org
END:VEVENT
BEGIN:VEVENT
DTSTART;TZID=America/New_York:20280305T100000
DTEND;TZID=America/New_York:20280305T120000
DTSTAMP:20260422T040616
CREATED:20251108T014036Z
LAST-MODIFIED:20260402T020402Z
UID:10000705-1835863200-1835870400@riveroflifecfc.org
SUMMARY:River Of Life Sunday Church Service
DESCRIPTION:River Of Life Sunday Church Service
URL:https://riveroflifecfc.org/event/river-of-life-sunday-church-service/2028-03-05/
LOCATION:Candlewood Hotel\, 4216 Old Philadephia Road\, Bel Air\, MD\, 21015\, United States
CATEGORIES:Church,Service
ORGANIZER;CN="River Of Life Christian Fellowship Church":MAILTO:sec@riveroflifecfc.org
END:VEVENT
BEGIN:VEVENT
DTSTART;TZID=America/New_York:20280307T183000
DTEND;TZID=America/New_York:20280307T200000
DTSTAMP:20260422T040616
CREATED:20251114T124712Z
LAST-MODIFIED:20260402T020100Z
UID:10000428-1836066600-1836072000@riveroflifecfc.org
SUMMARY:Weekly Bible Study
DESCRIPTION:Weekly Bible Study \nHeld on Zoom \nZoom Meeting ID – 475 497 5974 \nRiver of Life Christian Fellowship is inviting you to a scheduled Zoom meeting. \nJoin Zoom Meeting \nhttps://us02web.zoom.us/j/4754975974?omn=84818782105
URL:https://riveroflifecfc.org/event/weekly-bible-study-4/2028-03-07/
LOCATION:Zoom
CATEGORIES:Zoom Meeting
ORGANIZER;CN="River Of Life Christian Fellowship Church":MAILTO:sec@riveroflifecfc.org
END:VEVENT
BEGIN:VEVENT
DTSTART;TZID=America/New_York:20280308T183000
DTEND;TZID=America/New_York:20280308T200000
DTSTAMP:20260422T040616
CREATED:20251114T125444Z
LAST-MODIFIED:20260402T015714Z
UID:10000158-1836153000-1836158400@riveroflifecfc.org
SUMMARY:Weekly Church School (Sunday School)
DESCRIPTION:Weekly Church School (Sunday School) \nHeld on Zoom \nZoom Meeting ID – 475 497 5974 \nRiver of Life Christian Fellowship is inviting you to a scheduled Zoom meeting. \nJoin Zoom Meeting \nhttps://us02web.zoom.us/j/4754975974?omn=84818782105
URL:https://riveroflifecfc.org/event/weekly-church-school-sunday-school-8/2028-03-08/
LOCATION:Zoom
CATEGORIES:Zoom Meeting
ORGANIZER;CN="River Of Life Christian Fellowship Church":MAILTO:sec@riveroflifecfc.org
END:VEVENT
BEGIN:VEVENT
DTSTART;TZID=America/New_York:20280312T100000
DTEND;TZID=America/New_York:20280312T120000
DTSTAMP:20260422T040616
CREATED:20251108T014036Z
LAST-MODIFIED:20260402T020402Z
UID:10000706-1836468000-1836475200@riveroflifecfc.org
SUMMARY:River Of Life Sunday Church Service
DESCRIPTION:River Of Life Sunday Church Service
URL:https://riveroflifecfc.org/event/river-of-life-sunday-church-service/2028-03-12/
LOCATION:Candlewood Hotel\, 4216 Old Philadephia Road\, Bel Air\, MD\, 21015\, United States
CATEGORIES:Church,Service
ORGANIZER;CN="River Of Life Christian Fellowship Church":MAILTO:sec@riveroflifecfc.org
END:VEVENT
BEGIN:VEVENT
DTSTART;TZID=America/New_York:20280314T183000
DTEND;TZID=America/New_York:20280314T200000
DTSTAMP:20260422T040616
CREATED:20251114T124712Z
LAST-MODIFIED:20260402T020100Z
UID:10000429-1836671400-1836676800@riveroflifecfc.org
SUMMARY:Weekly Bible Study
DESCRIPTION:Weekly Bible Study \nHeld on Zoom \nZoom Meeting ID – 475 497 5974 \nRiver of Life Christian Fellowship is inviting you to a scheduled Zoom meeting. \nJoin Zoom Meeting \nhttps://us02web.zoom.us/j/4754975974?omn=84818782105
URL:https://riveroflifecfc.org/event/weekly-bible-study-4/2028-03-14/
LOCATION:Zoom
CATEGORIES:Zoom Meeting
ORGANIZER;CN="River Of Life Christian Fellowship Church":MAILTO:sec@riveroflifecfc.org
END:VEVENT
BEGIN:VEVENT
DTSTART;TZID=America/New_York:20280315T183000
DTEND;TZID=America/New_York:20280315T200000
DTSTAMP:20260422T040616
CREATED:20251114T125444Z
LAST-MODIFIED:20260402T015714Z
UID:10000159-1836757800-1836763200@riveroflifecfc.org
SUMMARY:Weekly Church School (Sunday School)
DESCRIPTION:Weekly Church School (Sunday School) \nHeld on Zoom \nZoom Meeting ID – 475 497 5974 \nRiver of Life Christian Fellowship is inviting you to a scheduled Zoom meeting. \nJoin Zoom Meeting \nhttps://us02web.zoom.us/j/4754975974?omn=84818782105
URL:https://riveroflifecfc.org/event/weekly-church-school-sunday-school-8/2028-03-15/
LOCATION:Zoom
CATEGORIES:Zoom Meeting
ORGANIZER;CN="River Of Life Christian Fellowship Church":MAILTO:sec@riveroflifecfc.org
END:VEVENT
BEGIN:VEVENT
DTSTART;TZID=America/New_York:20280319T100000
DTEND;TZID=America/New_York:20280319T120000
DTSTAMP:20260422T040616
CREATED:20251108T014036Z
LAST-MODIFIED:20260402T020402Z
UID:10000707-1837072800-1837080000@riveroflifecfc.org
SUMMARY:River Of Life Sunday Church Service
DESCRIPTION:River Of Life Sunday Church Service
URL:https://riveroflifecfc.org/event/river-of-life-sunday-church-service/2028-03-19/
LOCATION:Candlewood Hotel\, 4216 Old Philadephia Road\, Bel Air\, MD\, 21015\, United States
CATEGORIES:Church,Service
ORGANIZER;CN="River Of Life Christian Fellowship Church":MAILTO:sec@riveroflifecfc.org
END:VEVENT
BEGIN:VEVENT
DTSTART;TZID=America/New_York:20280321T183000
DTEND;TZID=America/New_York:20280321T200000
DTSTAMP:20260422T040616
CREATED:20251114T124712Z
LAST-MODIFIED:20260402T020100Z
UID:10000430-1837276200-1837281600@riveroflifecfc.org
SUMMARY:Weekly Bible Study
DESCRIPTION:Weekly Bible Study \nHeld on Zoom \nZoom Meeting ID – 475 497 5974 \nRiver of Life Christian Fellowship is inviting you to a scheduled Zoom meeting. \nJoin Zoom Meeting \nhttps://us02web.zoom.us/j/4754975974?omn=84818782105
URL:https://riveroflifecfc.org/event/weekly-bible-study-4/2028-03-21/
LOCATION:Zoom
CATEGORIES:Zoom Meeting
ORGANIZER;CN="River Of Life Christian Fellowship Church":MAILTO:sec@riveroflifecfc.org
END:VEVENT
BEGIN:VEVENT
DTSTART;TZID=America/New_York:20280322T183000
DTEND;TZID=America/New_York:20280322T200000
DTSTAMP:20260422T040616
CREATED:20251114T125444Z
LAST-MODIFIED:20260402T015714Z
UID:10000160-1837362600-1837368000@riveroflifecfc.org
SUMMARY:Weekly Church School (Sunday School)
DESCRIPTION:Weekly Church School (Sunday School) \nHeld on Zoom \nZoom Meeting ID – 475 497 5974 \nRiver of Life Christian Fellowship is inviting you to a scheduled Zoom meeting. \nJoin Zoom Meeting \nhttps://us02web.zoom.us/j/4754975974?omn=84818782105
URL:https://riveroflifecfc.org/event/weekly-church-school-sunday-school-8/2028-03-22/
LOCATION:Zoom
CATEGORIES:Zoom Meeting
ORGANIZER;CN="River Of Life Christian Fellowship Church":MAILTO:sec@riveroflifecfc.org
END:VEVENT
BEGIN:VEVENT
DTSTART;TZID=America/New_York:20280326T100000
DTEND;TZID=America/New_York:20280326T120000
DTSTAMP:20260422T040616
CREATED:20251108T014036Z
LAST-MODIFIED:20260402T020402Z
UID:10000708-1837677600-1837684800@riveroflifecfc.org
SUMMARY:River Of Life Sunday Church Service
DESCRIPTION:River Of Life Sunday Church Service
URL:https://riveroflifecfc.org/event/river-of-life-sunday-church-service/2028-03-26/
LOCATION:Candlewood Hotel\, 4216 Old Philadephia Road\, Bel Air\, MD\, 21015\, United States
CATEGORIES:Church,Service
ORGANIZER;CN="River Of Life Christian Fellowship Church":MAILTO:sec@riveroflifecfc.org
END:VEVENT
BEGIN:VEVENT
DTSTART;TZID=America/New_York:20280328T183000
DTEND;TZID=America/New_York:20280328T200000
DTSTAMP:20260422T040616
CREATED:20251114T124712Z
LAST-MODIFIED:20260402T020100Z
UID:10000431-1837881000-1837886400@riveroflifecfc.org
SUMMARY:Weekly Bible Study
DESCRIPTION:Weekly Bible Study \nHeld on Zoom \nZoom Meeting ID – 475 497 5974 \nRiver of Life Christian Fellowship is inviting you to a scheduled Zoom meeting. \nJoin Zoom Meeting \nhttps://us02web.zoom.us/j/4754975974?omn=84818782105
URL:https://riveroflifecfc.org/event/weekly-bible-study-4/2028-03-28/
LOCATION:Zoom
CATEGORIES:Zoom Meeting
ORGANIZER;CN="River Of Life Christian Fellowship Church":MAILTO:sec@riveroflifecfc.org
END:VEVENT
BEGIN:VEVENT
DTSTART;TZID=America/New_York:20280329T183000
DTEND;TZID=America/New_York:20280329T200000
DTSTAMP:20260422T040616
CREATED:20251114T125444Z
LAST-MODIFIED:20260402T015714Z
UID:10000161-1837967400-1837972800@riveroflifecfc.org
SUMMARY:Weekly Church School (Sunday School)
DESCRIPTION:Weekly Church School (Sunday School) \nHeld on Zoom \nZoom Meeting ID – 475 497 5974 \nRiver of Life Christian Fellowship is inviting you to a scheduled Zoom meeting. \nJoin Zoom Meeting \nhttps://us02web.zoom.us/j/4754975974?omn=84818782105
URL:https://riveroflifecfc.org/event/weekly-church-school-sunday-school-8/2028-03-29/
LOCATION:Zoom
CATEGORIES:Zoom Meeting
ORGANIZER;CN="River Of Life Christian Fellowship Church":MAILTO:sec@riveroflifecfc.org
END:VEVENT
END:VCALENDAR