BEGIN:VCALENDAR
VERSION:2.0
PRODID:-//River Of Life Christian Fellowship Church - ECPv6.15.20//NONSGML v1.0//EN
CALSCALE:GREGORIAN
METHOD:PUBLISH
X-WR-CALNAME:River Of Life Christian Fellowship Church
X-ORIGINAL-URL:https://riveroflifecfc.org
X-WR-CALDESC:Events for River Of Life Christian Fellowship Church
REFRESH-INTERVAL;VALUE=DURATION:PT1H
X-Robots-Tag:noindex
X-PUBLISHED-TTL:PT1H
BEGIN:VTIMEZONE
TZID:America/New_York
BEGIN:DAYLIGHT
TZOFFSETFROM:-0500
TZOFFSETTO:-0400
TZNAME:EDT
DTSTART:20260308T070000
END:DAYLIGHT
BEGIN:STANDARD
TZOFFSETFROM:-0400
TZOFFSETTO:-0500
TZNAME:EST
DTSTART:20261101T060000
END:STANDARD
BEGIN:DAYLIGHT
TZOFFSETFROM:-0500
TZOFFSETTO:-0400
TZNAME:EDT
DTSTART:20270314T070000
END:DAYLIGHT
BEGIN:STANDARD
TZOFFSETFROM:-0400
TZOFFSETTO:-0500
TZNAME:EST
DTSTART:20271107T060000
END:STANDARD
BEGIN:DAYLIGHT
TZOFFSETFROM:-0500
TZOFFSETTO:-0400
TZNAME:EDT
DTSTART:20280312T070000
END:DAYLIGHT
BEGIN:STANDARD
TZOFFSETFROM:-0400
TZOFFSETTO:-0500
TZNAME:EST
DTSTART:20281105T060000
END:STANDARD
END:VTIMEZONE
BEGIN:VEVENT
DTSTART;TZID=America/New_York:20270105T183000
DTEND;TZID=America/New_York:20270105T200000
DTSTAMP:20260420T230857
CREATED:20251114T124712Z
LAST-MODIFIED:20260402T020100Z
UID:10000367-1799173800-1799179200@riveroflifecfc.org
SUMMARY:Weekly Bible Study
DESCRIPTION:Weekly Bible Study \nHeld on Zoom \nZoom Meeting ID – 475 497 5974 \nRiver of Life Christian Fellowship is inviting you to a scheduled Zoom meeting. \nJoin Zoom Meeting \nhttps://us02web.zoom.us/j/4754975974?omn=84818782105
URL:https://riveroflifecfc.org/event/weekly-bible-study-4/2027-01-05/
LOCATION:Zoom
CATEGORIES:Zoom Meeting
ORGANIZER;CN="River Of Life Christian Fellowship Church":MAILTO:sec@riveroflifecfc.org
END:VEVENT
BEGIN:VEVENT
DTSTART;TZID=America/New_York:20270106T183000
DTEND;TZID=America/New_York:20270106T200000
DTSTAMP:20260420T230857
CREATED:20251114T125444Z
LAST-MODIFIED:20260402T015714Z
UID:10000097-1799260200-1799265600@riveroflifecfc.org
SUMMARY:Weekly Church School (Sunday School)
DESCRIPTION:Weekly Church School (Sunday School) \nHeld on Zoom \nZoom Meeting ID – 475 497 5974 \nRiver of Life Christian Fellowship is inviting you to a scheduled Zoom meeting. \nJoin Zoom Meeting \nhttps://us02web.zoom.us/j/4754975974?omn=84818782105
URL:https://riveroflifecfc.org/event/weekly-church-school-sunday-school-8/2027-01-06/
LOCATION:Zoom
CATEGORIES:Zoom Meeting
ORGANIZER;CN="River Of Life Christian Fellowship Church":MAILTO:sec@riveroflifecfc.org
END:VEVENT
BEGIN:VEVENT
DTSTART;TZID=America/New_York:20270112T183000
DTEND;TZID=America/New_York:20270112T200000
DTSTAMP:20260420T230857
CREATED:20251114T124712Z
LAST-MODIFIED:20260402T020100Z
UID:10000368-1799778600-1799784000@riveroflifecfc.org
SUMMARY:Weekly Bible Study
DESCRIPTION:Weekly Bible Study \nHeld on Zoom \nZoom Meeting ID – 475 497 5974 \nRiver of Life Christian Fellowship is inviting you to a scheduled Zoom meeting. \nJoin Zoom Meeting \nhttps://us02web.zoom.us/j/4754975974?omn=84818782105
URL:https://riveroflifecfc.org/event/weekly-bible-study-4/2027-01-12/
LOCATION:Zoom
CATEGORIES:Zoom Meeting
ORGANIZER;CN="River Of Life Christian Fellowship Church":MAILTO:sec@riveroflifecfc.org
END:VEVENT
BEGIN:VEVENT
DTSTART;TZID=America/New_York:20270113T183000
DTEND;TZID=America/New_York:20270113T200000
DTSTAMP:20260420T230857
CREATED:20251114T125444Z
LAST-MODIFIED:20260402T015714Z
UID:10000098-1799865000-1799870400@riveroflifecfc.org
SUMMARY:Weekly Church School (Sunday School)
DESCRIPTION:Weekly Church School (Sunday School) \nHeld on Zoom \nZoom Meeting ID – 475 497 5974 \nRiver of Life Christian Fellowship is inviting you to a scheduled Zoom meeting. \nJoin Zoom Meeting \nhttps://us02web.zoom.us/j/4754975974?omn=84818782105
URL:https://riveroflifecfc.org/event/weekly-church-school-sunday-school-8/2027-01-13/
LOCATION:Zoom
CATEGORIES:Zoom Meeting
ORGANIZER;CN="River Of Life Christian Fellowship Church":MAILTO:sec@riveroflifecfc.org
END:VEVENT
BEGIN:VEVENT
DTSTART;TZID=America/New_York:20270119T183000
DTEND;TZID=America/New_York:20270119T200000
DTSTAMP:20260420T230857
CREATED:20251114T124712Z
LAST-MODIFIED:20260402T020100Z
UID:10000369-1800383400-1800388800@riveroflifecfc.org
SUMMARY:Weekly Bible Study
DESCRIPTION:Weekly Bible Study \nHeld on Zoom \nZoom Meeting ID – 475 497 5974 \nRiver of Life Christian Fellowship is inviting you to a scheduled Zoom meeting. \nJoin Zoom Meeting \nhttps://us02web.zoom.us/j/4754975974?omn=84818782105
URL:https://riveroflifecfc.org/event/weekly-bible-study-4/2027-01-19/
LOCATION:Zoom
CATEGORIES:Zoom Meeting
ORGANIZER;CN="River Of Life Christian Fellowship Church":MAILTO:sec@riveroflifecfc.org
END:VEVENT
BEGIN:VEVENT
DTSTART;TZID=America/New_York:20270120T183000
DTEND;TZID=America/New_York:20270120T200000
DTSTAMP:20260420T230857
CREATED:20251114T125444Z
LAST-MODIFIED:20260402T015714Z
UID:10000099-1800469800-1800475200@riveroflifecfc.org
SUMMARY:Weekly Church School (Sunday School)
DESCRIPTION:Weekly Church School (Sunday School) \nHeld on Zoom \nZoom Meeting ID – 475 497 5974 \nRiver of Life Christian Fellowship is inviting you to a scheduled Zoom meeting. \nJoin Zoom Meeting \nhttps://us02web.zoom.us/j/4754975974?omn=84818782105
URL:https://riveroflifecfc.org/event/weekly-church-school-sunday-school-8/2027-01-20/
LOCATION:Zoom
CATEGORIES:Zoom Meeting
ORGANIZER;CN="River Of Life Christian Fellowship Church":MAILTO:sec@riveroflifecfc.org
END:VEVENT
BEGIN:VEVENT
DTSTART;TZID=America/New_York:20270126T183000
DTEND;TZID=America/New_York:20270126T200000
DTSTAMP:20260420T230857
CREATED:20251114T124712Z
LAST-MODIFIED:20260402T020100Z
UID:10000370-1800988200-1800993600@riveroflifecfc.org
SUMMARY:Weekly Bible Study
DESCRIPTION:Weekly Bible Study \nHeld on Zoom \nZoom Meeting ID – 475 497 5974 \nRiver of Life Christian Fellowship is inviting you to a scheduled Zoom meeting. \nJoin Zoom Meeting \nhttps://us02web.zoom.us/j/4754975974?omn=84818782105
URL:https://riveroflifecfc.org/event/weekly-bible-study-4/2027-01-26/
LOCATION:Zoom
CATEGORIES:Zoom Meeting
ORGANIZER;CN="River Of Life Christian Fellowship Church":MAILTO:sec@riveroflifecfc.org
END:VEVENT
BEGIN:VEVENT
DTSTART;TZID=America/New_York:20270127T183000
DTEND;TZID=America/New_York:20270127T200000
DTSTAMP:20260420T230857
CREATED:20251114T125444Z
LAST-MODIFIED:20260402T015714Z
UID:10000100-1801074600-1801080000@riveroflifecfc.org
SUMMARY:Weekly Church School (Sunday School)
DESCRIPTION:Weekly Church School (Sunday School) \nHeld on Zoom \nZoom Meeting ID – 475 497 5974 \nRiver of Life Christian Fellowship is inviting you to a scheduled Zoom meeting. \nJoin Zoom Meeting \nhttps://us02web.zoom.us/j/4754975974?omn=84818782105
URL:https://riveroflifecfc.org/event/weekly-church-school-sunday-school-8/2027-01-27/
LOCATION:Zoom
CATEGORIES:Zoom Meeting
ORGANIZER;CN="River Of Life Christian Fellowship Church":MAILTO:sec@riveroflifecfc.org
END:VEVENT
END:VCALENDAR