BEGIN:VCALENDAR
VERSION:2.0
PRODID:-//River Of Life Christian Fellowship Church - ECPv6.15.20//NONSGML v1.0//EN
CALSCALE:GREGORIAN
METHOD:PUBLISH
X-ORIGINAL-URL:https://riveroflifecfc.org
X-WR-CALDESC:Events for River Of Life Christian Fellowship Church
REFRESH-INTERVAL;VALUE=DURATION:PT1H
X-Robots-Tag:noindex
X-PUBLISHED-TTL:PT1H
BEGIN:VTIMEZONE
TZID:America/New_York
BEGIN:DAYLIGHT
TZOFFSETFROM:-0500
TZOFFSETTO:-0400
TZNAME:EDT
DTSTART:20250309T070000
END:DAYLIGHT
BEGIN:STANDARD
TZOFFSETFROM:-0400
TZOFFSETTO:-0500
TZNAME:EST
DTSTART:20251102T060000
END:STANDARD
BEGIN:DAYLIGHT
TZOFFSETFROM:-0500
TZOFFSETTO:-0400
TZNAME:EDT
DTSTART:20260308T070000
END:DAYLIGHT
BEGIN:STANDARD
TZOFFSETFROM:-0400
TZOFFSETTO:-0500
TZNAME:EST
DTSTART:20261101T060000
END:STANDARD
BEGIN:DAYLIGHT
TZOFFSETFROM:-0500
TZOFFSETTO:-0400
TZNAME:EDT
DTSTART:20270314T070000
END:DAYLIGHT
BEGIN:STANDARD
TZOFFSETFROM:-0400
TZOFFSETTO:-0500
TZNAME:EST
DTSTART:20271107T060000
END:STANDARD
END:VTIMEZONE
BEGIN:VEVENT
DTSTART;TZID=America/New_York:20261201T183000
DTEND;TZID=America/New_York:20261201T200000
DTSTAMP:20260420T214102
CREATED:20251114T124712Z
LAST-MODIFIED:20260402T020100Z
UID:10000362-1796149800-1796155200@riveroflifecfc.org
SUMMARY:Weekly Bible Study
DESCRIPTION:Weekly Bible Study \nHeld on Zoom \nZoom Meeting ID – 475 497 5974 \nRiver of Life Christian Fellowship is inviting you to a scheduled Zoom meeting. \nJoin Zoom Meeting \nhttps://us02web.zoom.us/j/4754975974?omn=84818782105
URL:https://riveroflifecfc.org/event/weekly-bible-study-4/2026-12-01/
LOCATION:Zoom
CATEGORIES:Zoom Meeting
ORGANIZER;CN="River Of Life Christian Fellowship Church":MAILTO:sec@riveroflifecfc.org
END:VEVENT
BEGIN:VEVENT
DTSTART;TZID=America/New_York:20261202T183000
DTEND;TZID=America/New_York:20261202T200000
DTSTAMP:20260420T214102
CREATED:20251114T125444Z
LAST-MODIFIED:20260402T015714Z
UID:10000092-1796236200-1796241600@riveroflifecfc.org
SUMMARY:Weekly Church School (Sunday School)
DESCRIPTION:Weekly Church School (Sunday School) \nHeld on Zoom \nZoom Meeting ID – 475 497 5974 \nRiver of Life Christian Fellowship is inviting you to a scheduled Zoom meeting. \nJoin Zoom Meeting \nhttps://us02web.zoom.us/j/4754975974?omn=84818782105
URL:https://riveroflifecfc.org/event/weekly-church-school-sunday-school-8/2026-12-02/
LOCATION:Zoom
CATEGORIES:Zoom Meeting
ORGANIZER;CN="River Of Life Christian Fellowship Church":MAILTO:sec@riveroflifecfc.org
END:VEVENT
BEGIN:VEVENT
DTSTART;TZID=America/New_York:20261208T183000
DTEND;TZID=America/New_York:20261208T200000
DTSTAMP:20260420T214102
CREATED:20251114T124712Z
LAST-MODIFIED:20260402T020100Z
UID:10000363-1796754600-1796760000@riveroflifecfc.org
SUMMARY:Weekly Bible Study
DESCRIPTION:Weekly Bible Study \nHeld on Zoom \nZoom Meeting ID – 475 497 5974 \nRiver of Life Christian Fellowship is inviting you to a scheduled Zoom meeting. \nJoin Zoom Meeting \nhttps://us02web.zoom.us/j/4754975974?omn=84818782105
URL:https://riveroflifecfc.org/event/weekly-bible-study-4/2026-12-08/
LOCATION:Zoom
CATEGORIES:Zoom Meeting
ORGANIZER;CN="River Of Life Christian Fellowship Church":MAILTO:sec@riveroflifecfc.org
END:VEVENT
BEGIN:VEVENT
DTSTART;TZID=America/New_York:20261209T183000
DTEND;TZID=America/New_York:20261209T200000
DTSTAMP:20260420T214102
CREATED:20251114T125444Z
LAST-MODIFIED:20260402T015714Z
UID:10000093-1796841000-1796846400@riveroflifecfc.org
SUMMARY:Weekly Church School (Sunday School)
DESCRIPTION:Weekly Church School (Sunday School) \nHeld on Zoom \nZoom Meeting ID – 475 497 5974 \nRiver of Life Christian Fellowship is inviting you to a scheduled Zoom meeting. \nJoin Zoom Meeting \nhttps://us02web.zoom.us/j/4754975974?omn=84818782105
URL:https://riveroflifecfc.org/event/weekly-church-school-sunday-school-8/2026-12-09/
LOCATION:Zoom
CATEGORIES:Zoom Meeting
ORGANIZER;CN="River Of Life Christian Fellowship Church":MAILTO:sec@riveroflifecfc.org
END:VEVENT
BEGIN:VEVENT
DTSTART;TZID=America/New_York:20261215T183000
DTEND;TZID=America/New_York:20261215T200000
DTSTAMP:20260420T214102
CREATED:20251114T124712Z
LAST-MODIFIED:20260402T020100Z
UID:10000364-1797359400-1797364800@riveroflifecfc.org
SUMMARY:Weekly Bible Study
DESCRIPTION:Weekly Bible Study \nHeld on Zoom \nZoom Meeting ID – 475 497 5974 \nRiver of Life Christian Fellowship is inviting you to a scheduled Zoom meeting. \nJoin Zoom Meeting \nhttps://us02web.zoom.us/j/4754975974?omn=84818782105
URL:https://riveroflifecfc.org/event/weekly-bible-study-4/2026-12-15/
LOCATION:Zoom
CATEGORIES:Zoom Meeting
ORGANIZER;CN="River Of Life Christian Fellowship Church":MAILTO:sec@riveroflifecfc.org
END:VEVENT
BEGIN:VEVENT
DTSTART;TZID=America/New_York:20261216T183000
DTEND;TZID=America/New_York:20261216T200000
DTSTAMP:20260420T214102
CREATED:20251114T125444Z
LAST-MODIFIED:20260402T015714Z
UID:10000094-1797445800-1797451200@riveroflifecfc.org
SUMMARY:Weekly Church School (Sunday School)
DESCRIPTION:Weekly Church School (Sunday School) \nHeld on Zoom \nZoom Meeting ID – 475 497 5974 \nRiver of Life Christian Fellowship is inviting you to a scheduled Zoom meeting. \nJoin Zoom Meeting \nhttps://us02web.zoom.us/j/4754975974?omn=84818782105
URL:https://riveroflifecfc.org/event/weekly-church-school-sunday-school-8/2026-12-16/
LOCATION:Zoom
CATEGORIES:Zoom Meeting
ORGANIZER;CN="River Of Life Christian Fellowship Church":MAILTO:sec@riveroflifecfc.org
END:VEVENT
BEGIN:VEVENT
DTSTART;TZID=America/New_York:20261222T183000
DTEND;TZID=America/New_York:20261222T200000
DTSTAMP:20260420T214102
CREATED:20251114T124712Z
LAST-MODIFIED:20260402T020100Z
UID:10000365-1797964200-1797969600@riveroflifecfc.org
SUMMARY:Weekly Bible Study
DESCRIPTION:Weekly Bible Study \nHeld on Zoom \nZoom Meeting ID – 475 497 5974 \nRiver of Life Christian Fellowship is inviting you to a scheduled Zoom meeting. \nJoin Zoom Meeting \nhttps://us02web.zoom.us/j/4754975974?omn=84818782105
URL:https://riveroflifecfc.org/event/weekly-bible-study-4/2026-12-22/
LOCATION:Zoom
CATEGORIES:Zoom Meeting
ORGANIZER;CN="River Of Life Christian Fellowship Church":MAILTO:sec@riveroflifecfc.org
END:VEVENT
BEGIN:VEVENT
DTSTART;TZID=America/New_York:20261223T183000
DTEND;TZID=America/New_York:20261223T200000
DTSTAMP:20260420T214102
CREATED:20251114T125444Z
LAST-MODIFIED:20260402T015714Z
UID:10000095-1798050600-1798056000@riveroflifecfc.org
SUMMARY:Weekly Church School (Sunday School)
DESCRIPTION:Weekly Church School (Sunday School) \nHeld on Zoom \nZoom Meeting ID – 475 497 5974 \nRiver of Life Christian Fellowship is inviting you to a scheduled Zoom meeting. \nJoin Zoom Meeting \nhttps://us02web.zoom.us/j/4754975974?omn=84818782105
URL:https://riveroflifecfc.org/event/weekly-church-school-sunday-school-8/2026-12-23/
LOCATION:Zoom
CATEGORIES:Zoom Meeting
ORGANIZER;CN="River Of Life Christian Fellowship Church":MAILTO:sec@riveroflifecfc.org
END:VEVENT
BEGIN:VEVENT
DTSTART;TZID=America/New_York:20261229T183000
DTEND;TZID=America/New_York:20261229T200000
DTSTAMP:20260420T214102
CREATED:20251114T124712Z
LAST-MODIFIED:20260402T020100Z
UID:10000366-1798569000-1798574400@riveroflifecfc.org
SUMMARY:Weekly Bible Study
DESCRIPTION:Weekly Bible Study \nHeld on Zoom \nZoom Meeting ID – 475 497 5974 \nRiver of Life Christian Fellowship is inviting you to a scheduled Zoom meeting. \nJoin Zoom Meeting \nhttps://us02web.zoom.us/j/4754975974?omn=84818782105
URL:https://riveroflifecfc.org/event/weekly-bible-study-4/2026-12-29/
LOCATION:Zoom
CATEGORIES:Zoom Meeting
ORGANIZER;CN="River Of Life Christian Fellowship Church":MAILTO:sec@riveroflifecfc.org
END:VEVENT
BEGIN:VEVENT
DTSTART;TZID=America/New_York:20261230T183000
DTEND;TZID=America/New_York:20261230T200000
DTSTAMP:20260420T214102
CREATED:20251114T125444Z
LAST-MODIFIED:20260402T015714Z
UID:10000096-1798655400-1798660800@riveroflifecfc.org
SUMMARY:Weekly Church School (Sunday School)
DESCRIPTION:Weekly Church School (Sunday School) \nHeld on Zoom \nZoom Meeting ID – 475 497 5974 \nRiver of Life Christian Fellowship is inviting you to a scheduled Zoom meeting. \nJoin Zoom Meeting \nhttps://us02web.zoom.us/j/4754975974?omn=84818782105
URL:https://riveroflifecfc.org/event/weekly-church-school-sunday-school-8/2026-12-30/
LOCATION:Zoom
CATEGORIES:Zoom Meeting
ORGANIZER;CN="River Of Life Christian Fellowship Church":MAILTO:sec@riveroflifecfc.org
END:VEVENT
END:VCALENDAR