BEGIN:VCALENDAR
VERSION:2.0
PRODID:-//River Of Life Christian Fellowship Church - ECPv6.15.20//NONSGML v1.0//EN
CALSCALE:GREGORIAN
METHOD:PUBLISH
X-ORIGINAL-URL:https://riveroflifecfc.org
X-WR-CALDESC:Events for River Of Life Christian Fellowship Church
REFRESH-INTERVAL;VALUE=DURATION:PT1H
X-Robots-Tag:noindex
X-PUBLISHED-TTL:PT1H
BEGIN:VTIMEZONE
TZID:America/New_York
BEGIN:DAYLIGHT
TZOFFSETFROM:-0500
TZOFFSETTO:-0400
TZNAME:EDT
DTSTART:20250309T070000
END:DAYLIGHT
BEGIN:STANDARD
TZOFFSETFROM:-0400
TZOFFSETTO:-0500
TZNAME:EST
DTSTART:20251102T060000
END:STANDARD
BEGIN:DAYLIGHT
TZOFFSETFROM:-0500
TZOFFSETTO:-0400
TZNAME:EDT
DTSTART:20260308T070000
END:DAYLIGHT
BEGIN:STANDARD
TZOFFSETFROM:-0400
TZOFFSETTO:-0500
TZNAME:EST
DTSTART:20261101T060000
END:STANDARD
BEGIN:DAYLIGHT
TZOFFSETFROM:-0500
TZOFFSETTO:-0400
TZNAME:EDT
DTSTART:20270314T070000
END:DAYLIGHT
BEGIN:STANDARD
TZOFFSETFROM:-0400
TZOFFSETTO:-0500
TZNAME:EST
DTSTART:20271107T060000
END:STANDARD
END:VTIMEZONE
BEGIN:VEVENT
DTSTART;TZID=America/New_York:20260804T183000
DTEND;TZID=America/New_York:20260804T200000
DTSTAMP:20260420T102748
CREATED:20251114T124712Z
LAST-MODIFIED:20260402T020100Z
UID:10000345-1785868200-1785873600@riveroflifecfc.org
SUMMARY:Weekly Bible Study
DESCRIPTION:Weekly Bible Study \nHeld on Zoom \nZoom Meeting ID – 475 497 5974 \nRiver of Life Christian Fellowship is inviting you to a scheduled Zoom meeting. \nJoin Zoom Meeting \nhttps://us02web.zoom.us/j/4754975974?omn=84818782105
URL:https://riveroflifecfc.org/event/weekly-bible-study-4/2026-08-04/
LOCATION:Zoom
CATEGORIES:Zoom Meeting
ORGANIZER;CN="River Of Life Christian Fellowship Church":MAILTO:sec@riveroflifecfc.org
END:VEVENT
BEGIN:VEVENT
DTSTART;TZID=America/New_York:20260805T183000
DTEND;TZID=America/New_York:20260805T200000
DTSTAMP:20260420T102748
CREATED:20251114T125444Z
LAST-MODIFIED:20260402T015714Z
UID:10000075-1785954600-1785960000@riveroflifecfc.org
SUMMARY:Weekly Church School (Sunday School)
DESCRIPTION:Weekly Church School (Sunday School) \nHeld on Zoom \nZoom Meeting ID – 475 497 5974 \nRiver of Life Christian Fellowship is inviting you to a scheduled Zoom meeting. \nJoin Zoom Meeting \nhttps://us02web.zoom.us/j/4754975974?omn=84818782105
URL:https://riveroflifecfc.org/event/weekly-church-school-sunday-school-8/2026-08-05/
LOCATION:Zoom
CATEGORIES:Zoom Meeting
ORGANIZER;CN="River Of Life Christian Fellowship Church":MAILTO:sec@riveroflifecfc.org
END:VEVENT
BEGIN:VEVENT
DTSTART;TZID=America/New_York:20260811T183000
DTEND;TZID=America/New_York:20260811T200000
DTSTAMP:20260420T102748
CREATED:20251114T124712Z
LAST-MODIFIED:20260402T020100Z
UID:10000346-1786473000-1786478400@riveroflifecfc.org
SUMMARY:Weekly Bible Study
DESCRIPTION:Weekly Bible Study \nHeld on Zoom \nZoom Meeting ID – 475 497 5974 \nRiver of Life Christian Fellowship is inviting you to a scheduled Zoom meeting. \nJoin Zoom Meeting \nhttps://us02web.zoom.us/j/4754975974?omn=84818782105
URL:https://riveroflifecfc.org/event/weekly-bible-study-4/2026-08-11/
LOCATION:Zoom
CATEGORIES:Zoom Meeting
ORGANIZER;CN="River Of Life Christian Fellowship Church":MAILTO:sec@riveroflifecfc.org
END:VEVENT
BEGIN:VEVENT
DTSTART;TZID=America/New_York:20260812T183000
DTEND;TZID=America/New_York:20260812T200000
DTSTAMP:20260420T102748
CREATED:20251114T125444Z
LAST-MODIFIED:20260402T015714Z
UID:10000076-1786559400-1786564800@riveroflifecfc.org
SUMMARY:Weekly Church School (Sunday School)
DESCRIPTION:Weekly Church School (Sunday School) \nHeld on Zoom \nZoom Meeting ID – 475 497 5974 \nRiver of Life Christian Fellowship is inviting you to a scheduled Zoom meeting. \nJoin Zoom Meeting \nhttps://us02web.zoom.us/j/4754975974?omn=84818782105
URL:https://riveroflifecfc.org/event/weekly-church-school-sunday-school-8/2026-08-12/
LOCATION:Zoom
CATEGORIES:Zoom Meeting
ORGANIZER;CN="River Of Life Christian Fellowship Church":MAILTO:sec@riveroflifecfc.org
END:VEVENT
BEGIN:VEVENT
DTSTART;TZID=America/New_York:20260818T183000
DTEND;TZID=America/New_York:20260818T200000
DTSTAMP:20260420T102748
CREATED:20251114T124712Z
LAST-MODIFIED:20260402T020100Z
UID:10000347-1787077800-1787083200@riveroflifecfc.org
SUMMARY:Weekly Bible Study
DESCRIPTION:Weekly Bible Study \nHeld on Zoom \nZoom Meeting ID – 475 497 5974 \nRiver of Life Christian Fellowship is inviting you to a scheduled Zoom meeting. \nJoin Zoom Meeting \nhttps://us02web.zoom.us/j/4754975974?omn=84818782105
URL:https://riveroflifecfc.org/event/weekly-bible-study-4/2026-08-18/
LOCATION:Zoom
CATEGORIES:Zoom Meeting
ORGANIZER;CN="River Of Life Christian Fellowship Church":MAILTO:sec@riveroflifecfc.org
END:VEVENT
BEGIN:VEVENT
DTSTART;TZID=America/New_York:20260819T183000
DTEND;TZID=America/New_York:20260819T200000
DTSTAMP:20260420T102748
CREATED:20251114T125444Z
LAST-MODIFIED:20260402T015714Z
UID:10000077-1787164200-1787169600@riveroflifecfc.org
SUMMARY:Weekly Church School (Sunday School)
DESCRIPTION:Weekly Church School (Sunday School) \nHeld on Zoom \nZoom Meeting ID – 475 497 5974 \nRiver of Life Christian Fellowship is inviting you to a scheduled Zoom meeting. \nJoin Zoom Meeting \nhttps://us02web.zoom.us/j/4754975974?omn=84818782105
URL:https://riveroflifecfc.org/event/weekly-church-school-sunday-school-8/2026-08-19/
LOCATION:Zoom
CATEGORIES:Zoom Meeting
ORGANIZER;CN="River Of Life Christian Fellowship Church":MAILTO:sec@riveroflifecfc.org
END:VEVENT
BEGIN:VEVENT
DTSTART;TZID=America/New_York:20260825T183000
DTEND;TZID=America/New_York:20260825T200000
DTSTAMP:20260420T102748
CREATED:20251114T124712Z
LAST-MODIFIED:20260402T020100Z
UID:10000348-1787682600-1787688000@riveroflifecfc.org
SUMMARY:Weekly Bible Study
DESCRIPTION:Weekly Bible Study \nHeld on Zoom \nZoom Meeting ID – 475 497 5974 \nRiver of Life Christian Fellowship is inviting you to a scheduled Zoom meeting. \nJoin Zoom Meeting \nhttps://us02web.zoom.us/j/4754975974?omn=84818782105
URL:https://riveroflifecfc.org/event/weekly-bible-study-4/2026-08-25/
LOCATION:Zoom
CATEGORIES:Zoom Meeting
ORGANIZER;CN="River Of Life Christian Fellowship Church":MAILTO:sec@riveroflifecfc.org
END:VEVENT
BEGIN:VEVENT
DTSTART;TZID=America/New_York:20260826T183000
DTEND;TZID=America/New_York:20260826T200000
DTSTAMP:20260420T102748
CREATED:20251114T125444Z
LAST-MODIFIED:20260402T015714Z
UID:10000078-1787769000-1787774400@riveroflifecfc.org
SUMMARY:Weekly Church School (Sunday School)
DESCRIPTION:Weekly Church School (Sunday School) \nHeld on Zoom \nZoom Meeting ID – 475 497 5974 \nRiver of Life Christian Fellowship is inviting you to a scheduled Zoom meeting. \nJoin Zoom Meeting \nhttps://us02web.zoom.us/j/4754975974?omn=84818782105
URL:https://riveroflifecfc.org/event/weekly-church-school-sunday-school-8/2026-08-26/
LOCATION:Zoom
CATEGORIES:Zoom Meeting
ORGANIZER;CN="River Of Life Christian Fellowship Church":MAILTO:sec@riveroflifecfc.org
END:VEVENT
END:VCALENDAR