BEGIN:VCALENDAR
VERSION:2.0
PRODID:-//River Of Life Christian Fellowship Church - ECPv6.15.20//NONSGML v1.0//EN
CALSCALE:GREGORIAN
METHOD:PUBLISH
X-WR-CALNAME:River Of Life Christian Fellowship Church
X-ORIGINAL-URL:https://riveroflifecfc.org
X-WR-CALDESC:Events for River Of Life Christian Fellowship Church
REFRESH-INTERVAL;VALUE=DURATION:PT1H
X-Robots-Tag:noindex
X-PUBLISHED-TTL:PT1H
BEGIN:VTIMEZONE
TZID:America/New_York
BEGIN:DAYLIGHT
TZOFFSETFROM:-0500
TZOFFSETTO:-0400
TZNAME:EDT
DTSTART:20290311T070000
END:DAYLIGHT
BEGIN:STANDARD
TZOFFSETFROM:-0400
TZOFFSETTO:-0500
TZNAME:EST
DTSTART:20291104T060000
END:STANDARD
BEGIN:DAYLIGHT
TZOFFSETFROM:-0500
TZOFFSETTO:-0400
TZNAME:EDT
DTSTART:20300310T070000
END:DAYLIGHT
BEGIN:STANDARD
TZOFFSETFROM:-0400
TZOFFSETTO:-0500
TZNAME:EST
DTSTART:20301103T060000
END:STANDARD
BEGIN:DAYLIGHT
TZOFFSETFROM:-0500
TZOFFSETTO:-0400
TZNAME:EDT
DTSTART:20310309T070000
END:DAYLIGHT
BEGIN:STANDARD
TZOFFSETFROM:-0400
TZOFFSETTO:-0500
TZNAME:EST
DTSTART:20311102T060000
END:STANDARD
BEGIN:DAYLIGHT
TZOFFSETFROM:-0500
TZOFFSETTO:-0400
TZNAME:EDT
DTSTART:20320314T070000
END:DAYLIGHT
BEGIN:STANDARD
TZOFFSETFROM:-0400
TZOFFSETTO:-0500
TZNAME:EST
DTSTART:20321107T060000
END:STANDARD
END:VTIMEZONE
BEGIN:VEVENT
DTSTART;TZID=America/New_York:20300623T100000
DTEND;TZID=America/New_York:20300623T120000
DTSTAMP:20260422T213633
CREATED:20251108T014036Z
LAST-MODIFIED:20260402T020402Z
UID:10000825-1908439200-1908446400@riveroflifecfc.org
SUMMARY:River Of Life Sunday Church Service
DESCRIPTION:River Of Life Sunday Church Service
URL:https://riveroflifecfc.org/event/river-of-life-sunday-church-service/2030-06-23/
LOCATION:Candlewood Hotel\, 4216 Old Philadephia Road\, Bel Air\, MD\, 21015\, United States
CATEGORIES:Church,Service
ORGANIZER;CN="River Of Life Christian Fellowship Church":MAILTO:sec@riveroflifecfc.org
END:VEVENT
BEGIN:VEVENT
DTSTART;TZID=America/New_York:20300630T100000
DTEND;TZID=America/New_York:20300630T120000
DTSTAMP:20260422T213633
CREATED:20251108T014036Z
LAST-MODIFIED:20260402T020402Z
UID:10000826-1909044000-1909051200@riveroflifecfc.org
SUMMARY:River Of Life Sunday Church Service
DESCRIPTION:River Of Life Sunday Church Service
URL:https://riveroflifecfc.org/event/river-of-life-sunday-church-service/2030-06-30/
LOCATION:Candlewood Hotel\, 4216 Old Philadephia Road\, Bel Air\, MD\, 21015\, United States
CATEGORIES:Church,Service
ORGANIZER;CN="River Of Life Christian Fellowship Church":MAILTO:sec@riveroflifecfc.org
END:VEVENT
BEGIN:VEVENT
DTSTART;TZID=America/New_York:20300707T100000
DTEND;TZID=America/New_York:20300707T120000
DTSTAMP:20260422T213633
CREATED:20251108T014036Z
LAST-MODIFIED:20260402T020402Z
UID:10000827-1909648800-1909656000@riveroflifecfc.org
SUMMARY:River Of Life Sunday Church Service
DESCRIPTION:River Of Life Sunday Church Service
URL:https://riveroflifecfc.org/event/river-of-life-sunday-church-service/2030-07-07/
LOCATION:Candlewood Hotel\, 4216 Old Philadephia Road\, Bel Air\, MD\, 21015\, United States
CATEGORIES:Church,Service
ORGANIZER;CN="River Of Life Christian Fellowship Church":MAILTO:sec@riveroflifecfc.org
END:VEVENT
BEGIN:VEVENT
DTSTART;TZID=America/New_York:20300714T100000
DTEND;TZID=America/New_York:20300714T120000
DTSTAMP:20260422T213633
CREATED:20251108T014036Z
LAST-MODIFIED:20260402T020402Z
UID:10000828-1910253600-1910260800@riveroflifecfc.org
SUMMARY:River Of Life Sunday Church Service
DESCRIPTION:River Of Life Sunday Church Service
URL:https://riveroflifecfc.org/event/river-of-life-sunday-church-service/2030-07-14/
LOCATION:Candlewood Hotel\, 4216 Old Philadephia Road\, Bel Air\, MD\, 21015\, United States
CATEGORIES:Church,Service
ORGANIZER;CN="River Of Life Christian Fellowship Church":MAILTO:sec@riveroflifecfc.org
END:VEVENT
BEGIN:VEVENT
DTSTART;TZID=America/New_York:20300721T100000
DTEND;TZID=America/New_York:20300721T120000
DTSTAMP:20260422T213633
CREATED:20251108T014036Z
LAST-MODIFIED:20260402T020402Z
UID:10000829-1910858400-1910865600@riveroflifecfc.org
SUMMARY:River Of Life Sunday Church Service
DESCRIPTION:River Of Life Sunday Church Service
URL:https://riveroflifecfc.org/event/river-of-life-sunday-church-service/2030-07-21/
LOCATION:Candlewood Hotel\, 4216 Old Philadephia Road\, Bel Air\, MD\, 21015\, United States
CATEGORIES:Church,Service
ORGANIZER;CN="River Of Life Christian Fellowship Church":MAILTO:sec@riveroflifecfc.org
END:VEVENT
BEGIN:VEVENT
DTSTART;TZID=America/New_York:20300728T100000
DTEND;TZID=America/New_York:20300728T120000
DTSTAMP:20260422T213633
CREATED:20251108T014036Z
LAST-MODIFIED:20260402T020402Z
UID:10000830-1911463200-1911470400@riveroflifecfc.org
SUMMARY:River Of Life Sunday Church Service
DESCRIPTION:River Of Life Sunday Church Service
URL:https://riveroflifecfc.org/event/river-of-life-sunday-church-service/2030-07-28/
LOCATION:Candlewood Hotel\, 4216 Old Philadephia Road\, Bel Air\, MD\, 21015\, United States
CATEGORIES:Church,Service
ORGANIZER;CN="River Of Life Christian Fellowship Church":MAILTO:sec@riveroflifecfc.org
END:VEVENT
BEGIN:VEVENT
DTSTART;TZID=America/New_York:20300804T100000
DTEND;TZID=America/New_York:20300804T120000
DTSTAMP:20260422T213633
CREATED:20251108T014036Z
LAST-MODIFIED:20260402T020402Z
UID:10000831-1912068000-1912075200@riveroflifecfc.org
SUMMARY:River Of Life Sunday Church Service
DESCRIPTION:River Of Life Sunday Church Service
URL:https://riveroflifecfc.org/event/river-of-life-sunday-church-service/2030-08-04/
LOCATION:Candlewood Hotel\, 4216 Old Philadephia Road\, Bel Air\, MD\, 21015\, United States
CATEGORIES:Church,Service
ORGANIZER;CN="River Of Life Christian Fellowship Church":MAILTO:sec@riveroflifecfc.org
END:VEVENT
BEGIN:VEVENT
DTSTART;TZID=America/New_York:20300811T100000
DTEND;TZID=America/New_York:20300811T120000
DTSTAMP:20260422T213633
CREATED:20251108T014036Z
LAST-MODIFIED:20260402T020402Z
UID:10000832-1912672800-1912680000@riveroflifecfc.org
SUMMARY:River Of Life Sunday Church Service
DESCRIPTION:River Of Life Sunday Church Service
URL:https://riveroflifecfc.org/event/river-of-life-sunday-church-service/2030-08-11/
LOCATION:Candlewood Hotel\, 4216 Old Philadephia Road\, Bel Air\, MD\, 21015\, United States
CATEGORIES:Church,Service
ORGANIZER;CN="River Of Life Christian Fellowship Church":MAILTO:sec@riveroflifecfc.org
END:VEVENT
BEGIN:VEVENT
DTSTART;TZID=America/New_York:20300818T100000
DTEND;TZID=America/New_York:20300818T120000
DTSTAMP:20260422T213633
CREATED:20251108T014036Z
LAST-MODIFIED:20260402T020402Z
UID:10000833-1913277600-1913284800@riveroflifecfc.org
SUMMARY:River Of Life Sunday Church Service
DESCRIPTION:River Of Life Sunday Church Service
URL:https://riveroflifecfc.org/event/river-of-life-sunday-church-service/2030-08-18/
LOCATION:Candlewood Hotel\, 4216 Old Philadephia Road\, Bel Air\, MD\, 21015\, United States
CATEGORIES:Church,Service
ORGANIZER;CN="River Of Life Christian Fellowship Church":MAILTO:sec@riveroflifecfc.org
END:VEVENT
BEGIN:VEVENT
DTSTART;TZID=America/New_York:20300825T100000
DTEND;TZID=America/New_York:20300825T120000
DTSTAMP:20260422T213633
CREATED:20251108T014036Z
LAST-MODIFIED:20260402T020402Z
UID:10000834-1913882400-1913889600@riveroflifecfc.org
SUMMARY:River Of Life Sunday Church Service
DESCRIPTION:River Of Life Sunday Church Service
URL:https://riveroflifecfc.org/event/river-of-life-sunday-church-service/2030-08-25/
LOCATION:Candlewood Hotel\, 4216 Old Philadephia Road\, Bel Air\, MD\, 21015\, United States
CATEGORIES:Church,Service
ORGANIZER;CN="River Of Life Christian Fellowship Church":MAILTO:sec@riveroflifecfc.org
END:VEVENT
BEGIN:VEVENT
DTSTART;TZID=America/New_York:20300901T100000
DTEND;TZID=America/New_York:20300901T120000
DTSTAMP:20260422T213633
CREATED:20251108T014036Z
LAST-MODIFIED:20260402T020402Z
UID:10000835-1914487200-1914494400@riveroflifecfc.org
SUMMARY:River Of Life Sunday Church Service
DESCRIPTION:River Of Life Sunday Church Service
URL:https://riveroflifecfc.org/event/river-of-life-sunday-church-service/2030-09-01/
LOCATION:Candlewood Hotel\, 4216 Old Philadephia Road\, Bel Air\, MD\, 21015\, United States
CATEGORIES:Church,Service
ORGANIZER;CN="River Of Life Christian Fellowship Church":MAILTO:sec@riveroflifecfc.org
END:VEVENT
BEGIN:VEVENT
DTSTART;TZID=America/New_York:20300908T100000
DTEND;TZID=America/New_York:20300908T120000
DTSTAMP:20260422T213633
CREATED:20251108T014036Z
LAST-MODIFIED:20260402T020402Z
UID:10000836-1915092000-1915099200@riveroflifecfc.org
SUMMARY:River Of Life Sunday Church Service
DESCRIPTION:River Of Life Sunday Church Service
URL:https://riveroflifecfc.org/event/river-of-life-sunday-church-service/2030-09-08/
LOCATION:Candlewood Hotel\, 4216 Old Philadephia Road\, Bel Air\, MD\, 21015\, United States
CATEGORIES:Church,Service
ORGANIZER;CN="River Of Life Christian Fellowship Church":MAILTO:sec@riveroflifecfc.org
END:VEVENT
BEGIN:VEVENT
DTSTART;TZID=America/New_York:20300915T100000
DTEND;TZID=America/New_York:20300915T120000
DTSTAMP:20260422T213633
CREATED:20251108T014036Z
LAST-MODIFIED:20260402T020402Z
UID:10000837-1915696800-1915704000@riveroflifecfc.org
SUMMARY:River Of Life Sunday Church Service
DESCRIPTION:River Of Life Sunday Church Service
URL:https://riveroflifecfc.org/event/river-of-life-sunday-church-service/2030-09-15/
LOCATION:Candlewood Hotel\, 4216 Old Philadephia Road\, Bel Air\, MD\, 21015\, United States
CATEGORIES:Church,Service
ORGANIZER;CN="River Of Life Christian Fellowship Church":MAILTO:sec@riveroflifecfc.org
END:VEVENT
BEGIN:VEVENT
DTSTART;TZID=America/New_York:20300922T100000
DTEND;TZID=America/New_York:20300922T120000
DTSTAMP:20260422T213633
CREATED:20251108T014036Z
LAST-MODIFIED:20260402T020402Z
UID:10000838-1916301600-1916308800@riveroflifecfc.org
SUMMARY:River Of Life Sunday Church Service
DESCRIPTION:River Of Life Sunday Church Service
URL:https://riveroflifecfc.org/event/river-of-life-sunday-church-service/2030-09-22/
LOCATION:Candlewood Hotel\, 4216 Old Philadephia Road\, Bel Air\, MD\, 21015\, United States
CATEGORIES:Church,Service
ORGANIZER;CN="River Of Life Christian Fellowship Church":MAILTO:sec@riveroflifecfc.org
END:VEVENT
BEGIN:VEVENT
DTSTART;TZID=America/New_York:20300929T100000
DTEND;TZID=America/New_York:20300929T120000
DTSTAMP:20260422T213633
CREATED:20251108T014036Z
LAST-MODIFIED:20260402T020402Z
UID:10000839-1916906400-1916913600@riveroflifecfc.org
SUMMARY:River Of Life Sunday Church Service
DESCRIPTION:River Of Life Sunday Church Service
URL:https://riveroflifecfc.org/event/river-of-life-sunday-church-service/2030-09-29/
LOCATION:Candlewood Hotel\, 4216 Old Philadephia Road\, Bel Air\, MD\, 21015\, United States
CATEGORIES:Church,Service
ORGANIZER;CN="River Of Life Christian Fellowship Church":MAILTO:sec@riveroflifecfc.org
END:VEVENT
BEGIN:VEVENT
DTSTART;TZID=America/New_York:20301006T100000
DTEND;TZID=America/New_York:20301006T120000
DTSTAMP:20260422T213633
CREATED:20251108T014036Z
LAST-MODIFIED:20260402T020402Z
UID:10000840-1917511200-1917518400@riveroflifecfc.org
SUMMARY:River Of Life Sunday Church Service
DESCRIPTION:River Of Life Sunday Church Service
URL:https://riveroflifecfc.org/event/river-of-life-sunday-church-service/2030-10-06/
LOCATION:Candlewood Hotel\, 4216 Old Philadephia Road\, Bel Air\, MD\, 21015\, United States
CATEGORIES:Church,Service
ORGANIZER;CN="River Of Life Christian Fellowship Church":MAILTO:sec@riveroflifecfc.org
END:VEVENT
BEGIN:VEVENT
DTSTART;TZID=America/New_York:20301013T100000
DTEND;TZID=America/New_York:20301013T120000
DTSTAMP:20260422T213633
CREATED:20251108T014036Z
LAST-MODIFIED:20260402T020402Z
UID:10000841-1918116000-1918123200@riveroflifecfc.org
SUMMARY:River Of Life Sunday Church Service
DESCRIPTION:River Of Life Sunday Church Service
URL:https://riveroflifecfc.org/event/river-of-life-sunday-church-service/2030-10-13/
LOCATION:Candlewood Hotel\, 4216 Old Philadephia Road\, Bel Air\, MD\, 21015\, United States
CATEGORIES:Church,Service
ORGANIZER;CN="River Of Life Christian Fellowship Church":MAILTO:sec@riveroflifecfc.org
END:VEVENT
BEGIN:VEVENT
DTSTART;TZID=America/New_York:20301020T100000
DTEND;TZID=America/New_York:20301020T120000
DTSTAMP:20260422T213633
CREATED:20251108T014036Z
LAST-MODIFIED:20260402T020402Z
UID:10000842-1918720800-1918728000@riveroflifecfc.org
SUMMARY:River Of Life Sunday Church Service
DESCRIPTION:River Of Life Sunday Church Service
URL:https://riveroflifecfc.org/event/river-of-life-sunday-church-service/2030-10-20/
LOCATION:Candlewood Hotel\, 4216 Old Philadephia Road\, Bel Air\, MD\, 21015\, United States
CATEGORIES:Church,Service
ORGANIZER;CN="River Of Life Christian Fellowship Church":MAILTO:sec@riveroflifecfc.org
END:VEVENT
BEGIN:VEVENT
DTSTART;TZID=America/New_York:20301027T100000
DTEND;TZID=America/New_York:20301027T120000
DTSTAMP:20260422T213633
CREATED:20251108T014036Z
LAST-MODIFIED:20260402T020402Z
UID:10000843-1919325600-1919332800@riveroflifecfc.org
SUMMARY:River Of Life Sunday Church Service
DESCRIPTION:River Of Life Sunday Church Service
URL:https://riveroflifecfc.org/event/river-of-life-sunday-church-service/2030-10-27/
LOCATION:Candlewood Hotel\, 4216 Old Philadephia Road\, Bel Air\, MD\, 21015\, United States
CATEGORIES:Church,Service
ORGANIZER;CN="River Of Life Christian Fellowship Church":MAILTO:sec@riveroflifecfc.org
END:VEVENT
BEGIN:VEVENT
DTSTART;TZID=America/New_York:20301103T100000
DTEND;TZID=America/New_York:20301103T120000
DTSTAMP:20260422T213633
CREATED:20251108T014036Z
LAST-MODIFIED:20260402T020402Z
UID:10000844-1919930400-1919937600@riveroflifecfc.org
SUMMARY:River Of Life Sunday Church Service
DESCRIPTION:River Of Life Sunday Church Service
URL:https://riveroflifecfc.org/event/river-of-life-sunday-church-service/2030-11-03/
LOCATION:Candlewood Hotel\, 4216 Old Philadephia Road\, Bel Air\, MD\, 21015\, United States
CATEGORIES:Church,Service
ORGANIZER;CN="River Of Life Christian Fellowship Church":MAILTO:sec@riveroflifecfc.org
END:VEVENT
BEGIN:VEVENT
DTSTART;TZID=America/New_York:20301110T100000
DTEND;TZID=America/New_York:20301110T120000
DTSTAMP:20260422T213633
CREATED:20251108T014036Z
LAST-MODIFIED:20260402T020402Z
UID:10000845-1920535200-1920542400@riveroflifecfc.org
SUMMARY:River Of Life Sunday Church Service
DESCRIPTION:River Of Life Sunday Church Service
URL:https://riveroflifecfc.org/event/river-of-life-sunday-church-service/2030-11-10/
LOCATION:Candlewood Hotel\, 4216 Old Philadephia Road\, Bel Air\, MD\, 21015\, United States
CATEGORIES:Church,Service
ORGANIZER;CN="River Of Life Christian Fellowship Church":MAILTO:sec@riveroflifecfc.org
END:VEVENT
BEGIN:VEVENT
DTSTART;TZID=America/New_York:20301117T100000
DTEND;TZID=America/New_York:20301117T120000
DTSTAMP:20260422T213633
CREATED:20251108T014036Z
LAST-MODIFIED:20260402T020402Z
UID:10000846-1921140000-1921147200@riveroflifecfc.org
SUMMARY:River Of Life Sunday Church Service
DESCRIPTION:River Of Life Sunday Church Service
URL:https://riveroflifecfc.org/event/river-of-life-sunday-church-service/2030-11-17/
LOCATION:Candlewood Hotel\, 4216 Old Philadephia Road\, Bel Air\, MD\, 21015\, United States
CATEGORIES:Church,Service
ORGANIZER;CN="River Of Life Christian Fellowship Church":MAILTO:sec@riveroflifecfc.org
END:VEVENT
BEGIN:VEVENT
DTSTART;TZID=America/New_York:20301124T100000
DTEND;TZID=America/New_York:20301124T120000
DTSTAMP:20260422T213633
CREATED:20251108T014036Z
LAST-MODIFIED:20260402T020402Z
UID:10000847-1921744800-1921752000@riveroflifecfc.org
SUMMARY:River Of Life Sunday Church Service
DESCRIPTION:River Of Life Sunday Church Service
URL:https://riveroflifecfc.org/event/river-of-life-sunday-church-service/2030-11-24/
LOCATION:Candlewood Hotel\, 4216 Old Philadephia Road\, Bel Air\, MD\, 21015\, United States
CATEGORIES:Church,Service
ORGANIZER;CN="River Of Life Christian Fellowship Church":MAILTO:sec@riveroflifecfc.org
END:VEVENT
BEGIN:VEVENT
DTSTART;TZID=America/New_York:20301201T100000
DTEND;TZID=America/New_York:20301201T120000
DTSTAMP:20260422T213633
CREATED:20251108T014036Z
LAST-MODIFIED:20260402T020402Z
UID:10000848-1922349600-1922356800@riveroflifecfc.org
SUMMARY:River Of Life Sunday Church Service
DESCRIPTION:River Of Life Sunday Church Service
URL:https://riveroflifecfc.org/event/river-of-life-sunday-church-service/2030-12-01/
LOCATION:Candlewood Hotel\, 4216 Old Philadephia Road\, Bel Air\, MD\, 21015\, United States
CATEGORIES:Church,Service
ORGANIZER;CN="River Of Life Christian Fellowship Church":MAILTO:sec@riveroflifecfc.org
END:VEVENT
BEGIN:VEVENT
DTSTART;TZID=America/New_York:20301208T100000
DTEND;TZID=America/New_York:20301208T120000
DTSTAMP:20260422T213633
CREATED:20251108T014036Z
LAST-MODIFIED:20260402T020402Z
UID:10000849-1922954400-1922961600@riveroflifecfc.org
SUMMARY:River Of Life Sunday Church Service
DESCRIPTION:River Of Life Sunday Church Service
URL:https://riveroflifecfc.org/event/river-of-life-sunday-church-service/2030-12-08/
LOCATION:Candlewood Hotel\, 4216 Old Philadephia Road\, Bel Air\, MD\, 21015\, United States
CATEGORIES:Church,Service
ORGANIZER;CN="River Of Life Christian Fellowship Church":MAILTO:sec@riveroflifecfc.org
END:VEVENT
BEGIN:VEVENT
DTSTART;TZID=America/New_York:20301215T100000
DTEND;TZID=America/New_York:20301215T120000
DTSTAMP:20260422T213633
CREATED:20251108T014036Z
LAST-MODIFIED:20260402T020402Z
UID:10000850-1923559200-1923566400@riveroflifecfc.org
SUMMARY:River Of Life Sunday Church Service
DESCRIPTION:River Of Life Sunday Church Service
URL:https://riveroflifecfc.org/event/river-of-life-sunday-church-service/2030-12-15/
LOCATION:Candlewood Hotel\, 4216 Old Philadephia Road\, Bel Air\, MD\, 21015\, United States
CATEGORIES:Church,Service
ORGANIZER;CN="River Of Life Christian Fellowship Church":MAILTO:sec@riveroflifecfc.org
END:VEVENT
BEGIN:VEVENT
DTSTART;TZID=America/New_York:20301222T100000
DTEND;TZID=America/New_York:20301222T120000
DTSTAMP:20260422T213633
CREATED:20251108T014036Z
LAST-MODIFIED:20260402T020402Z
UID:10000851-1924164000-1924171200@riveroflifecfc.org
SUMMARY:River Of Life Sunday Church Service
DESCRIPTION:River Of Life Sunday Church Service
URL:https://riveroflifecfc.org/event/river-of-life-sunday-church-service/2030-12-22/
LOCATION:Candlewood Hotel\, 4216 Old Philadephia Road\, Bel Air\, MD\, 21015\, United States
CATEGORIES:Church,Service
ORGANIZER;CN="River Of Life Christian Fellowship Church":MAILTO:sec@riveroflifecfc.org
END:VEVENT
BEGIN:VEVENT
DTSTART;TZID=America/New_York:20301229T100000
DTEND;TZID=America/New_York:20301229T120000
DTSTAMP:20260422T213633
CREATED:20251108T014036Z
LAST-MODIFIED:20260402T020402Z
UID:10000852-1924768800-1924776000@riveroflifecfc.org
SUMMARY:River Of Life Sunday Church Service
DESCRIPTION:River Of Life Sunday Church Service
URL:https://riveroflifecfc.org/event/river-of-life-sunday-church-service/2030-12-29/
LOCATION:Candlewood Hotel\, 4216 Old Philadephia Road\, Bel Air\, MD\, 21015\, United States
CATEGORIES:Church,Service
ORGANIZER;CN="River Of Life Christian Fellowship Church":MAILTO:sec@riveroflifecfc.org
END:VEVENT
BEGIN:VEVENT
DTSTART;TZID=America/New_York:20310105T100000
DTEND;TZID=America/New_York:20310105T120000
DTSTAMP:20260422T213633
CREATED:20251108T014036Z
LAST-MODIFIED:20260402T020402Z
UID:10000853-1925373600-1925380800@riveroflifecfc.org
SUMMARY:River Of Life Sunday Church Service
DESCRIPTION:River Of Life Sunday Church Service
URL:https://riveroflifecfc.org/event/river-of-life-sunday-church-service/2031-01-05/
LOCATION:Candlewood Hotel\, 4216 Old Philadephia Road\, Bel Air\, MD\, 21015\, United States
CATEGORIES:Church,Service
ORGANIZER;CN="River Of Life Christian Fellowship Church":MAILTO:sec@riveroflifecfc.org
END:VEVENT
BEGIN:VEVENT
DTSTART;TZID=America/New_York:20310112T100000
DTEND;TZID=America/New_York:20310112T120000
DTSTAMP:20260422T213633
CREATED:20251108T014036Z
LAST-MODIFIED:20260402T020402Z
UID:10000854-1925978400-1925985600@riveroflifecfc.org
SUMMARY:River Of Life Sunday Church Service
DESCRIPTION:River Of Life Sunday Church Service
URL:https://riveroflifecfc.org/event/river-of-life-sunday-church-service/2031-01-12/
LOCATION:Candlewood Hotel\, 4216 Old Philadephia Road\, Bel Air\, MD\, 21015\, United States
CATEGORIES:Church,Service
ORGANIZER;CN="River Of Life Christian Fellowship Church":MAILTO:sec@riveroflifecfc.org
END:VEVENT
END:VCALENDAR