BEGIN:VCALENDAR
VERSION:2.0
PRODID:-//River Of Life Christian Fellowship Church - ECPv6.15.20//NONSGML v1.0//EN
CALSCALE:GREGORIAN
METHOD:PUBLISH
X-WR-CALNAME:River Of Life Christian Fellowship Church
X-ORIGINAL-URL:https://riveroflifecfc.org
X-WR-CALDESC:Events for River Of Life Christian Fellowship Church
REFRESH-INTERVAL;VALUE=DURATION:PT1H
X-Robots-Tag:noindex
X-PUBLISHED-TTL:PT1H
BEGIN:VTIMEZONE
TZID:America/New_York
BEGIN:DAYLIGHT
TZOFFSETFROM:-0500
TZOFFSETTO:-0400
TZNAME:EDT
DTSTART:20260308T070000
END:DAYLIGHT
BEGIN:STANDARD
TZOFFSETFROM:-0400
TZOFFSETTO:-0500
TZNAME:EST
DTSTART:20261101T060000
END:STANDARD
BEGIN:DAYLIGHT
TZOFFSETFROM:-0500
TZOFFSETTO:-0400
TZNAME:EDT
DTSTART:20270314T070000
END:DAYLIGHT
BEGIN:STANDARD
TZOFFSETFROM:-0400
TZOFFSETTO:-0500
TZNAME:EST
DTSTART:20271107T060000
END:STANDARD
BEGIN:DAYLIGHT
TZOFFSETFROM:-0500
TZOFFSETTO:-0400
TZNAME:EDT
DTSTART:20280312T070000
END:DAYLIGHT
BEGIN:STANDARD
TZOFFSETFROM:-0400
TZOFFSETTO:-0500
TZNAME:EST
DTSTART:20281105T060000
END:STANDARD
BEGIN:DAYLIGHT
TZOFFSETFROM:-0500
TZOFFSETTO:-0400
TZNAME:EDT
DTSTART:20290311T070000
END:DAYLIGHT
BEGIN:STANDARD
TZOFFSETFROM:-0400
TZOFFSETTO:-0500
TZNAME:EST
DTSTART:20291104T060000
END:STANDARD
END:VTIMEZONE
BEGIN:VEVENT
DTSTART;TZID=America/New_York:20271107T100000
DTEND;TZID=America/New_York:20271107T120000
DTSTAMP:20260421T011103
CREATED:20251108T014036Z
LAST-MODIFIED:20260402T020402Z
UID:10000688-1825581600-1825588800@riveroflifecfc.org
SUMMARY:River Of Life Sunday Church Service
DESCRIPTION:River Of Life Sunday Church Service
URL:https://riveroflifecfc.org/event/river-of-life-sunday-church-service/2027-11-07/
LOCATION:Candlewood Hotel\, 4216 Old Philadephia Road\, Bel Air\, MD\, 21015\, United States
CATEGORIES:Church,Service
ORGANIZER;CN="River Of Life Christian Fellowship Church":MAILTO:sec@riveroflifecfc.org
END:VEVENT
BEGIN:VEVENT
DTSTART;TZID=America/New_York:20271114T100000
DTEND;TZID=America/New_York:20271114T120000
DTSTAMP:20260421T011103
CREATED:20251108T014036Z
LAST-MODIFIED:20260402T020402Z
UID:10000689-1826186400-1826193600@riveroflifecfc.org
SUMMARY:River Of Life Sunday Church Service
DESCRIPTION:River Of Life Sunday Church Service
URL:https://riveroflifecfc.org/event/river-of-life-sunday-church-service/2027-11-14/
LOCATION:Candlewood Hotel\, 4216 Old Philadephia Road\, Bel Air\, MD\, 21015\, United States
CATEGORIES:Church,Service
ORGANIZER;CN="River Of Life Christian Fellowship Church":MAILTO:sec@riveroflifecfc.org
END:VEVENT
BEGIN:VEVENT
DTSTART;TZID=America/New_York:20271121T100000
DTEND;TZID=America/New_York:20271121T120000
DTSTAMP:20260421T011103
CREATED:20251108T014036Z
LAST-MODIFIED:20260402T020402Z
UID:10000690-1826791200-1826798400@riveroflifecfc.org
SUMMARY:River Of Life Sunday Church Service
DESCRIPTION:River Of Life Sunday Church Service
URL:https://riveroflifecfc.org/event/river-of-life-sunday-church-service/2027-11-21/
LOCATION:Candlewood Hotel\, 4216 Old Philadephia Road\, Bel Air\, MD\, 21015\, United States
CATEGORIES:Church,Service
ORGANIZER;CN="River Of Life Christian Fellowship Church":MAILTO:sec@riveroflifecfc.org
END:VEVENT
BEGIN:VEVENT
DTSTART;TZID=America/New_York:20271128T100000
DTEND;TZID=America/New_York:20271128T120000
DTSTAMP:20260421T011103
CREATED:20251108T014036Z
LAST-MODIFIED:20260402T020402Z
UID:10000691-1827396000-1827403200@riveroflifecfc.org
SUMMARY:River Of Life Sunday Church Service
DESCRIPTION:River Of Life Sunday Church Service
URL:https://riveroflifecfc.org/event/river-of-life-sunday-church-service/2027-11-28/
LOCATION:Candlewood Hotel\, 4216 Old Philadephia Road\, Bel Air\, MD\, 21015\, United States
CATEGORIES:Church,Service
ORGANIZER;CN="River Of Life Christian Fellowship Church":MAILTO:sec@riveroflifecfc.org
END:VEVENT
BEGIN:VEVENT
DTSTART;TZID=America/New_York:20271205T100000
DTEND;TZID=America/New_York:20271205T120000
DTSTAMP:20260421T011103
CREATED:20251108T014036Z
LAST-MODIFIED:20260402T020402Z
UID:10000692-1828000800-1828008000@riveroflifecfc.org
SUMMARY:River Of Life Sunday Church Service
DESCRIPTION:River Of Life Sunday Church Service
URL:https://riveroflifecfc.org/event/river-of-life-sunday-church-service/2027-12-05/
LOCATION:Candlewood Hotel\, 4216 Old Philadephia Road\, Bel Air\, MD\, 21015\, United States
CATEGORIES:Church,Service
ORGANIZER;CN="River Of Life Christian Fellowship Church":MAILTO:sec@riveroflifecfc.org
END:VEVENT
BEGIN:VEVENT
DTSTART;TZID=America/New_York:20271212T100000
DTEND;TZID=America/New_York:20271212T120000
DTSTAMP:20260421T011103
CREATED:20251108T014036Z
LAST-MODIFIED:20260402T020402Z
UID:10000693-1828605600-1828612800@riveroflifecfc.org
SUMMARY:River Of Life Sunday Church Service
DESCRIPTION:River Of Life Sunday Church Service
URL:https://riveroflifecfc.org/event/river-of-life-sunday-church-service/2027-12-12/
LOCATION:Candlewood Hotel\, 4216 Old Philadephia Road\, Bel Air\, MD\, 21015\, United States
CATEGORIES:Church,Service
ORGANIZER;CN="River Of Life Christian Fellowship Church":MAILTO:sec@riveroflifecfc.org
END:VEVENT
BEGIN:VEVENT
DTSTART;TZID=America/New_York:20271219T100000
DTEND;TZID=America/New_York:20271219T120000
DTSTAMP:20260421T011103
CREATED:20251108T014036Z
LAST-MODIFIED:20260402T020402Z
UID:10000694-1829210400-1829217600@riveroflifecfc.org
SUMMARY:River Of Life Sunday Church Service
DESCRIPTION:River Of Life Sunday Church Service
URL:https://riveroflifecfc.org/event/river-of-life-sunday-church-service/2027-12-19/
LOCATION:Candlewood Hotel\, 4216 Old Philadephia Road\, Bel Air\, MD\, 21015\, United States
CATEGORIES:Church,Service
ORGANIZER;CN="River Of Life Christian Fellowship Church":MAILTO:sec@riveroflifecfc.org
END:VEVENT
BEGIN:VEVENT
DTSTART;TZID=America/New_York:20271226T100000
DTEND;TZID=America/New_York:20271226T120000
DTSTAMP:20260421T011103
CREATED:20251108T014036Z
LAST-MODIFIED:20260402T020402Z
UID:10000695-1829815200-1829822400@riveroflifecfc.org
SUMMARY:River Of Life Sunday Church Service
DESCRIPTION:River Of Life Sunday Church Service
URL:https://riveroflifecfc.org/event/river-of-life-sunday-church-service/2027-12-26/
LOCATION:Candlewood Hotel\, 4216 Old Philadephia Road\, Bel Air\, MD\, 21015\, United States
CATEGORIES:Church,Service
ORGANIZER;CN="River Of Life Christian Fellowship Church":MAILTO:sec@riveroflifecfc.org
END:VEVENT
BEGIN:VEVENT
DTSTART;TZID=America/New_York:20280102T100000
DTEND;TZID=America/New_York:20280102T120000
DTSTAMP:20260421T011103
CREATED:20251108T014036Z
LAST-MODIFIED:20260402T020402Z
UID:10000696-1830420000-1830427200@riveroflifecfc.org
SUMMARY:River Of Life Sunday Church Service
DESCRIPTION:River Of Life Sunday Church Service
URL:https://riveroflifecfc.org/event/river-of-life-sunday-church-service/2028-01-02/
LOCATION:Candlewood Hotel\, 4216 Old Philadephia Road\, Bel Air\, MD\, 21015\, United States
CATEGORIES:Church,Service
ORGANIZER;CN="River Of Life Christian Fellowship Church":MAILTO:sec@riveroflifecfc.org
END:VEVENT
BEGIN:VEVENT
DTSTART;TZID=America/New_York:20280109T100000
DTEND;TZID=America/New_York:20280109T120000
DTSTAMP:20260421T011103
CREATED:20251108T014036Z
LAST-MODIFIED:20260402T020402Z
UID:10000697-1831024800-1831032000@riveroflifecfc.org
SUMMARY:River Of Life Sunday Church Service
DESCRIPTION:River Of Life Sunday Church Service
URL:https://riveroflifecfc.org/event/river-of-life-sunday-church-service/2028-01-09/
LOCATION:Candlewood Hotel\, 4216 Old Philadephia Road\, Bel Air\, MD\, 21015\, United States
CATEGORIES:Church,Service
ORGANIZER;CN="River Of Life Christian Fellowship Church":MAILTO:sec@riveroflifecfc.org
END:VEVENT
BEGIN:VEVENT
DTSTART;TZID=America/New_York:20280116T100000
DTEND;TZID=America/New_York:20280116T120000
DTSTAMP:20260421T011103
CREATED:20251108T014036Z
LAST-MODIFIED:20260402T020402Z
UID:10000698-1831629600-1831636800@riveroflifecfc.org
SUMMARY:River Of Life Sunday Church Service
DESCRIPTION:River Of Life Sunday Church Service
URL:https://riveroflifecfc.org/event/river-of-life-sunday-church-service/2028-01-16/
LOCATION:Candlewood Hotel\, 4216 Old Philadephia Road\, Bel Air\, MD\, 21015\, United States
CATEGORIES:Church,Service
ORGANIZER;CN="River Of Life Christian Fellowship Church":MAILTO:sec@riveroflifecfc.org
END:VEVENT
BEGIN:VEVENT
DTSTART;TZID=America/New_York:20280123T100000
DTEND;TZID=America/New_York:20280123T120000
DTSTAMP:20260421T011103
CREATED:20251108T014036Z
LAST-MODIFIED:20260402T020402Z
UID:10000699-1832234400-1832241600@riveroflifecfc.org
SUMMARY:River Of Life Sunday Church Service
DESCRIPTION:River Of Life Sunday Church Service
URL:https://riveroflifecfc.org/event/river-of-life-sunday-church-service/2028-01-23/
LOCATION:Candlewood Hotel\, 4216 Old Philadephia Road\, Bel Air\, MD\, 21015\, United States
CATEGORIES:Church,Service
ORGANIZER;CN="River Of Life Christian Fellowship Church":MAILTO:sec@riveroflifecfc.org
END:VEVENT
BEGIN:VEVENT
DTSTART;TZID=America/New_York:20280130T100000
DTEND;TZID=America/New_York:20280130T120000
DTSTAMP:20260421T011103
CREATED:20251108T014036Z
LAST-MODIFIED:20260402T020402Z
UID:10000700-1832839200-1832846400@riveroflifecfc.org
SUMMARY:River Of Life Sunday Church Service
DESCRIPTION:River Of Life Sunday Church Service
URL:https://riveroflifecfc.org/event/river-of-life-sunday-church-service/2028-01-30/
LOCATION:Candlewood Hotel\, 4216 Old Philadephia Road\, Bel Air\, MD\, 21015\, United States
CATEGORIES:Church,Service
ORGANIZER;CN="River Of Life Christian Fellowship Church":MAILTO:sec@riveroflifecfc.org
END:VEVENT
BEGIN:VEVENT
DTSTART;TZID=America/New_York:20280206T100000
DTEND;TZID=America/New_York:20280206T120000
DTSTAMP:20260421T011103
CREATED:20251108T014036Z
LAST-MODIFIED:20260402T020402Z
UID:10000701-1833444000-1833451200@riveroflifecfc.org
SUMMARY:River Of Life Sunday Church Service
DESCRIPTION:River Of Life Sunday Church Service
URL:https://riveroflifecfc.org/event/river-of-life-sunday-church-service/2028-02-06/
LOCATION:Candlewood Hotel\, 4216 Old Philadephia Road\, Bel Air\, MD\, 21015\, United States
CATEGORIES:Church,Service
ORGANIZER;CN="River Of Life Christian Fellowship Church":MAILTO:sec@riveroflifecfc.org
END:VEVENT
BEGIN:VEVENT
DTSTART;TZID=America/New_York:20280213T100000
DTEND;TZID=America/New_York:20280213T120000
DTSTAMP:20260421T011103
CREATED:20251108T014036Z
LAST-MODIFIED:20260402T020402Z
UID:10000702-1834048800-1834056000@riveroflifecfc.org
SUMMARY:River Of Life Sunday Church Service
DESCRIPTION:River Of Life Sunday Church Service
URL:https://riveroflifecfc.org/event/river-of-life-sunday-church-service/2028-02-13/
LOCATION:Candlewood Hotel\, 4216 Old Philadephia Road\, Bel Air\, MD\, 21015\, United States
CATEGORIES:Church,Service
ORGANIZER;CN="River Of Life Christian Fellowship Church":MAILTO:sec@riveroflifecfc.org
END:VEVENT
BEGIN:VEVENT
DTSTART;TZID=America/New_York:20280220T100000
DTEND;TZID=America/New_York:20280220T120000
DTSTAMP:20260421T011104
CREATED:20251108T014036Z
LAST-MODIFIED:20260402T020402Z
UID:10000703-1834653600-1834660800@riveroflifecfc.org
SUMMARY:River Of Life Sunday Church Service
DESCRIPTION:River Of Life Sunday Church Service
URL:https://riveroflifecfc.org/event/river-of-life-sunday-church-service/2028-02-20/
LOCATION:Candlewood Hotel\, 4216 Old Philadephia Road\, Bel Air\, MD\, 21015\, United States
CATEGORIES:Church,Service
ORGANIZER;CN="River Of Life Christian Fellowship Church":MAILTO:sec@riveroflifecfc.org
END:VEVENT
BEGIN:VEVENT
DTSTART;TZID=America/New_York:20280227T100000
DTEND;TZID=America/New_York:20280227T120000
DTSTAMP:20260421T011104
CREATED:20251108T014036Z
LAST-MODIFIED:20260402T020402Z
UID:10000704-1835258400-1835265600@riveroflifecfc.org
SUMMARY:River Of Life Sunday Church Service
DESCRIPTION:River Of Life Sunday Church Service
URL:https://riveroflifecfc.org/event/river-of-life-sunday-church-service/2028-02-27/
LOCATION:Candlewood Hotel\, 4216 Old Philadephia Road\, Bel Air\, MD\, 21015\, United States
CATEGORIES:Church,Service
ORGANIZER;CN="River Of Life Christian Fellowship Church":MAILTO:sec@riveroflifecfc.org
END:VEVENT
BEGIN:VEVENT
DTSTART;TZID=America/New_York:20280305T100000
DTEND;TZID=America/New_York:20280305T120000
DTSTAMP:20260421T011104
CREATED:20251108T014036Z
LAST-MODIFIED:20260402T020402Z
UID:10000705-1835863200-1835870400@riveroflifecfc.org
SUMMARY:River Of Life Sunday Church Service
DESCRIPTION:River Of Life Sunday Church Service
URL:https://riveroflifecfc.org/event/river-of-life-sunday-church-service/2028-03-05/
LOCATION:Candlewood Hotel\, 4216 Old Philadephia Road\, Bel Air\, MD\, 21015\, United States
CATEGORIES:Church,Service
ORGANIZER;CN="River Of Life Christian Fellowship Church":MAILTO:sec@riveroflifecfc.org
END:VEVENT
BEGIN:VEVENT
DTSTART;TZID=America/New_York:20280312T100000
DTEND;TZID=America/New_York:20280312T120000
DTSTAMP:20260421T011104
CREATED:20251108T014036Z
LAST-MODIFIED:20260402T020402Z
UID:10000706-1836468000-1836475200@riveroflifecfc.org
SUMMARY:River Of Life Sunday Church Service
DESCRIPTION:River Of Life Sunday Church Service
URL:https://riveroflifecfc.org/event/river-of-life-sunday-church-service/2028-03-12/
LOCATION:Candlewood Hotel\, 4216 Old Philadephia Road\, Bel Air\, MD\, 21015\, United States
CATEGORIES:Church,Service
ORGANIZER;CN="River Of Life Christian Fellowship Church":MAILTO:sec@riveroflifecfc.org
END:VEVENT
BEGIN:VEVENT
DTSTART;TZID=America/New_York:20280319T100000
DTEND;TZID=America/New_York:20280319T120000
DTSTAMP:20260421T011104
CREATED:20251108T014036Z
LAST-MODIFIED:20260402T020402Z
UID:10000707-1837072800-1837080000@riveroflifecfc.org
SUMMARY:River Of Life Sunday Church Service
DESCRIPTION:River Of Life Sunday Church Service
URL:https://riveroflifecfc.org/event/river-of-life-sunday-church-service/2028-03-19/
LOCATION:Candlewood Hotel\, 4216 Old Philadephia Road\, Bel Air\, MD\, 21015\, United States
CATEGORIES:Church,Service
ORGANIZER;CN="River Of Life Christian Fellowship Church":MAILTO:sec@riveroflifecfc.org
END:VEVENT
BEGIN:VEVENT
DTSTART;TZID=America/New_York:20280326T100000
DTEND;TZID=America/New_York:20280326T120000
DTSTAMP:20260421T011104
CREATED:20251108T014036Z
LAST-MODIFIED:20260402T020402Z
UID:10000708-1837677600-1837684800@riveroflifecfc.org
SUMMARY:River Of Life Sunday Church Service
DESCRIPTION:River Of Life Sunday Church Service
URL:https://riveroflifecfc.org/event/river-of-life-sunday-church-service/2028-03-26/
LOCATION:Candlewood Hotel\, 4216 Old Philadephia Road\, Bel Air\, MD\, 21015\, United States
CATEGORIES:Church,Service
ORGANIZER;CN="River Of Life Christian Fellowship Church":MAILTO:sec@riveroflifecfc.org
END:VEVENT
BEGIN:VEVENT
DTSTART;TZID=America/New_York:20280402T100000
DTEND;TZID=America/New_York:20280402T120000
DTSTAMP:20260421T011104
CREATED:20251108T014036Z
LAST-MODIFIED:20260402T020402Z
UID:10000709-1838282400-1838289600@riveroflifecfc.org
SUMMARY:River Of Life Sunday Church Service
DESCRIPTION:River Of Life Sunday Church Service
URL:https://riveroflifecfc.org/event/river-of-life-sunday-church-service/2028-04-02/
LOCATION:Candlewood Hotel\, 4216 Old Philadephia Road\, Bel Air\, MD\, 21015\, United States
CATEGORIES:Church,Service
ORGANIZER;CN="River Of Life Christian Fellowship Church":MAILTO:sec@riveroflifecfc.org
END:VEVENT
BEGIN:VEVENT
DTSTART;TZID=America/New_York:20280409T100000
DTEND;TZID=America/New_York:20280409T120000
DTSTAMP:20260421T011104
CREATED:20251108T014036Z
LAST-MODIFIED:20260402T020402Z
UID:10000710-1838887200-1838894400@riveroflifecfc.org
SUMMARY:River Of Life Sunday Church Service
DESCRIPTION:River Of Life Sunday Church Service
URL:https://riveroflifecfc.org/event/river-of-life-sunday-church-service/2028-04-09/
LOCATION:Candlewood Hotel\, 4216 Old Philadephia Road\, Bel Air\, MD\, 21015\, United States
CATEGORIES:Church,Service
ORGANIZER;CN="River Of Life Christian Fellowship Church":MAILTO:sec@riveroflifecfc.org
END:VEVENT
BEGIN:VEVENT
DTSTART;TZID=America/New_York:20280416T100000
DTEND;TZID=America/New_York:20280416T120000
DTSTAMP:20260421T011104
CREATED:20251108T014036Z
LAST-MODIFIED:20260402T020402Z
UID:10000711-1839492000-1839499200@riveroflifecfc.org
SUMMARY:River Of Life Sunday Church Service
DESCRIPTION:River Of Life Sunday Church Service
URL:https://riveroflifecfc.org/event/river-of-life-sunday-church-service/2028-04-16/
LOCATION:Candlewood Hotel\, 4216 Old Philadephia Road\, Bel Air\, MD\, 21015\, United States
CATEGORIES:Church,Service
ORGANIZER;CN="River Of Life Christian Fellowship Church":MAILTO:sec@riveroflifecfc.org
END:VEVENT
BEGIN:VEVENT
DTSTART;TZID=America/New_York:20280423T100000
DTEND;TZID=America/New_York:20280423T120000
DTSTAMP:20260421T011104
CREATED:20251108T014036Z
LAST-MODIFIED:20260402T020402Z
UID:10000712-1840096800-1840104000@riveroflifecfc.org
SUMMARY:River Of Life Sunday Church Service
DESCRIPTION:River Of Life Sunday Church Service
URL:https://riveroflifecfc.org/event/river-of-life-sunday-church-service/2028-04-23/
LOCATION:Candlewood Hotel\, 4216 Old Philadephia Road\, Bel Air\, MD\, 21015\, United States
CATEGORIES:Church,Service
ORGANIZER;CN="River Of Life Christian Fellowship Church":MAILTO:sec@riveroflifecfc.org
END:VEVENT
BEGIN:VEVENT
DTSTART;TZID=America/New_York:20280430T100000
DTEND;TZID=America/New_York:20280430T120000
DTSTAMP:20260421T011104
CREATED:20251108T014036Z
LAST-MODIFIED:20260402T020402Z
UID:10000713-1840701600-1840708800@riveroflifecfc.org
SUMMARY:River Of Life Sunday Church Service
DESCRIPTION:River Of Life Sunday Church Service
URL:https://riveroflifecfc.org/event/river-of-life-sunday-church-service/2028-04-30/
LOCATION:Candlewood Hotel\, 4216 Old Philadephia Road\, Bel Air\, MD\, 21015\, United States
CATEGORIES:Church,Service
ORGANIZER;CN="River Of Life Christian Fellowship Church":MAILTO:sec@riveroflifecfc.org
END:VEVENT
BEGIN:VEVENT
DTSTART;TZID=America/New_York:20280507T100000
DTEND;TZID=America/New_York:20280507T120000
DTSTAMP:20260421T011104
CREATED:20251108T014036Z
LAST-MODIFIED:20260402T020402Z
UID:10000714-1841306400-1841313600@riveroflifecfc.org
SUMMARY:River Of Life Sunday Church Service
DESCRIPTION:River Of Life Sunday Church Service
URL:https://riveroflifecfc.org/event/river-of-life-sunday-church-service/2028-05-07/
LOCATION:Candlewood Hotel\, 4216 Old Philadephia Road\, Bel Air\, MD\, 21015\, United States
CATEGORIES:Church,Service
ORGANIZER;CN="River Of Life Christian Fellowship Church":MAILTO:sec@riveroflifecfc.org
END:VEVENT
BEGIN:VEVENT
DTSTART;TZID=America/New_York:20280514T100000
DTEND;TZID=America/New_York:20280514T120000
DTSTAMP:20260421T011104
CREATED:20251108T014036Z
LAST-MODIFIED:20260402T020402Z
UID:10000715-1841911200-1841918400@riveroflifecfc.org
SUMMARY:River Of Life Sunday Church Service
DESCRIPTION:River Of Life Sunday Church Service
URL:https://riveroflifecfc.org/event/river-of-life-sunday-church-service/2028-05-14/
LOCATION:Candlewood Hotel\, 4216 Old Philadephia Road\, Bel Air\, MD\, 21015\, United States
CATEGORIES:Church,Service
ORGANIZER;CN="River Of Life Christian Fellowship Church":MAILTO:sec@riveroflifecfc.org
END:VEVENT
BEGIN:VEVENT
DTSTART;TZID=America/New_York:20280521T100000
DTEND;TZID=America/New_York:20280521T120000
DTSTAMP:20260421T011104
CREATED:20251108T014036Z
LAST-MODIFIED:20260402T020402Z
UID:10000716-1842516000-1842523200@riveroflifecfc.org
SUMMARY:River Of Life Sunday Church Service
DESCRIPTION:River Of Life Sunday Church Service
URL:https://riveroflifecfc.org/event/river-of-life-sunday-church-service/2028-05-21/
LOCATION:Candlewood Hotel\, 4216 Old Philadephia Road\, Bel Air\, MD\, 21015\, United States
CATEGORIES:Church,Service
ORGANIZER;CN="River Of Life Christian Fellowship Church":MAILTO:sec@riveroflifecfc.org
END:VEVENT
BEGIN:VEVENT
DTSTART;TZID=America/New_York:20280528T100000
DTEND;TZID=America/New_York:20280528T120000
DTSTAMP:20260421T011104
CREATED:20251108T014036Z
LAST-MODIFIED:20260402T020402Z
UID:10000717-1843120800-1843128000@riveroflifecfc.org
SUMMARY:River Of Life Sunday Church Service
DESCRIPTION:River Of Life Sunday Church Service
URL:https://riveroflifecfc.org/event/river-of-life-sunday-church-service/2028-05-28/
LOCATION:Candlewood Hotel\, 4216 Old Philadephia Road\, Bel Air\, MD\, 21015\, United States
CATEGORIES:Church,Service
ORGANIZER;CN="River Of Life Christian Fellowship Church":MAILTO:sec@riveroflifecfc.org
END:VEVENT
END:VCALENDAR