BEGIN:VCALENDAR
VERSION:2.0
PRODID:-//River Of Life Christian Fellowship Church - ECPv6.15.20//NONSGML v1.0//EN
CALSCALE:GREGORIAN
METHOD:PUBLISH
X-WR-CALNAME:River Of Life Christian Fellowship Church
X-ORIGINAL-URL:https://riveroflifecfc.org
X-WR-CALDESC:Events for River Of Life Christian Fellowship Church
REFRESH-INTERVAL;VALUE=DURATION:PT1H
X-Robots-Tag:noindex
X-PUBLISHED-TTL:PT1H
BEGIN:VTIMEZONE
TZID:America/New_York
BEGIN:DAYLIGHT
TZOFFSETFROM:-0500
TZOFFSETTO:-0400
TZNAME:EDT
DTSTART:20290311T070000
END:DAYLIGHT
BEGIN:STANDARD
TZOFFSETFROM:-0400
TZOFFSETTO:-0500
TZNAME:EST
DTSTART:20291104T060000
END:STANDARD
BEGIN:DAYLIGHT
TZOFFSETFROM:-0500
TZOFFSETTO:-0400
TZNAME:EDT
DTSTART:20300310T070000
END:DAYLIGHT
BEGIN:STANDARD
TZOFFSETFROM:-0400
TZOFFSETTO:-0500
TZNAME:EST
DTSTART:20301103T060000
END:STANDARD
BEGIN:DAYLIGHT
TZOFFSETFROM:-0500
TZOFFSETTO:-0400
TZNAME:EDT
DTSTART:20310309T070000
END:DAYLIGHT
BEGIN:STANDARD
TZOFFSETFROM:-0400
TZOFFSETTO:-0500
TZNAME:EST
DTSTART:20311102T060000
END:STANDARD
BEGIN:DAYLIGHT
TZOFFSETFROM:-0500
TZOFFSETTO:-0400
TZNAME:EDT
DTSTART:20320314T070000
END:DAYLIGHT
BEGIN:STANDARD
TZOFFSETFROM:-0400
TZOFFSETTO:-0500
TZNAME:EST
DTSTART:20321107T060000
END:STANDARD
END:VTIMEZONE
BEGIN:VEVENT
DTSTART;TZID=America/New_York:20301215T100000
DTEND;TZID=America/New_York:20301215T120000
DTSTAMP:20260423T060338
CREATED:20251108T014036Z
LAST-MODIFIED:20260402T020402Z
UID:10000850-1923559200-1923566400@riveroflifecfc.org
SUMMARY:River Of Life Sunday Church Service
DESCRIPTION:River Of Life Sunday Church Service
URL:https://riveroflifecfc.org/event/river-of-life-sunday-church-service/2030-12-15/
LOCATION:Candlewood Hotel\, 4216 Old Philadephia Road\, Bel Air\, MD\, 21015\, United States
CATEGORIES:Church,Service
ORGANIZER;CN="River Of Life Christian Fellowship Church":MAILTO:sec@riveroflifecfc.org
END:VEVENT
BEGIN:VEVENT
DTSTART;TZID=America/New_York:20301222T100000
DTEND;TZID=America/New_York:20301222T120000
DTSTAMP:20260423T060338
CREATED:20251108T014036Z
LAST-MODIFIED:20260402T020402Z
UID:10000851-1924164000-1924171200@riveroflifecfc.org
SUMMARY:River Of Life Sunday Church Service
DESCRIPTION:River Of Life Sunday Church Service
URL:https://riveroflifecfc.org/event/river-of-life-sunday-church-service/2030-12-22/
LOCATION:Candlewood Hotel\, 4216 Old Philadephia Road\, Bel Air\, MD\, 21015\, United States
CATEGORIES:Church,Service
ORGANIZER;CN="River Of Life Christian Fellowship Church":MAILTO:sec@riveroflifecfc.org
END:VEVENT
BEGIN:VEVENT
DTSTART;TZID=America/New_York:20301229T100000
DTEND;TZID=America/New_York:20301229T120000
DTSTAMP:20260423T060338
CREATED:20251108T014036Z
LAST-MODIFIED:20260402T020402Z
UID:10000852-1924768800-1924776000@riveroflifecfc.org
SUMMARY:River Of Life Sunday Church Service
DESCRIPTION:River Of Life Sunday Church Service
URL:https://riveroflifecfc.org/event/river-of-life-sunday-church-service/2030-12-29/
LOCATION:Candlewood Hotel\, 4216 Old Philadephia Road\, Bel Air\, MD\, 21015\, United States
CATEGORIES:Church,Service
ORGANIZER;CN="River Of Life Christian Fellowship Church":MAILTO:sec@riveroflifecfc.org
END:VEVENT
BEGIN:VEVENT
DTSTART;TZID=America/New_York:20310105T100000
DTEND;TZID=America/New_York:20310105T120000
DTSTAMP:20260423T060338
CREATED:20251108T014036Z
LAST-MODIFIED:20260402T020402Z
UID:10000853-1925373600-1925380800@riveroflifecfc.org
SUMMARY:River Of Life Sunday Church Service
DESCRIPTION:River Of Life Sunday Church Service
URL:https://riveroflifecfc.org/event/river-of-life-sunday-church-service/2031-01-05/
LOCATION:Candlewood Hotel\, 4216 Old Philadephia Road\, Bel Air\, MD\, 21015\, United States
CATEGORIES:Church,Service
ORGANIZER;CN="River Of Life Christian Fellowship Church":MAILTO:sec@riveroflifecfc.org
END:VEVENT
BEGIN:VEVENT
DTSTART;TZID=America/New_York:20310112T100000
DTEND;TZID=America/New_York:20310112T120000
DTSTAMP:20260423T060338
CREATED:20251108T014036Z
LAST-MODIFIED:20260402T020402Z
UID:10000854-1925978400-1925985600@riveroflifecfc.org
SUMMARY:River Of Life Sunday Church Service
DESCRIPTION:River Of Life Sunday Church Service
URL:https://riveroflifecfc.org/event/river-of-life-sunday-church-service/2031-01-12/
LOCATION:Candlewood Hotel\, 4216 Old Philadephia Road\, Bel Air\, MD\, 21015\, United States
CATEGORIES:Church,Service
ORGANIZER;CN="River Of Life Christian Fellowship Church":MAILTO:sec@riveroflifecfc.org
END:VEVENT
BEGIN:VEVENT
DTSTART;TZID=America/New_York:20310119T100000
DTEND;TZID=America/New_York:20310119T120000
DTSTAMP:20260423T060338
CREATED:20251108T014036Z
LAST-MODIFIED:20260402T020402Z
UID:10000855-1926583200-1926590400@riveroflifecfc.org
SUMMARY:River Of Life Sunday Church Service
DESCRIPTION:River Of Life Sunday Church Service
URL:https://riveroflifecfc.org/event/river-of-life-sunday-church-service/2031-01-19/
LOCATION:Candlewood Hotel\, 4216 Old Philadephia Road\, Bel Air\, MD\, 21015\, United States
CATEGORIES:Church,Service
ORGANIZER;CN="River Of Life Christian Fellowship Church":MAILTO:sec@riveroflifecfc.org
END:VEVENT
BEGIN:VEVENT
DTSTART;TZID=America/New_York:20310126T100000
DTEND;TZID=America/New_York:20310126T120000
DTSTAMP:20260423T060338
CREATED:20251108T014036Z
LAST-MODIFIED:20260402T020402Z
UID:10000856-1927188000-1927195200@riveroflifecfc.org
SUMMARY:River Of Life Sunday Church Service
DESCRIPTION:River Of Life Sunday Church Service
URL:https://riveroflifecfc.org/event/river-of-life-sunday-church-service/2031-01-26/
LOCATION:Candlewood Hotel\, 4216 Old Philadephia Road\, Bel Air\, MD\, 21015\, United States
CATEGORIES:Church,Service
ORGANIZER;CN="River Of Life Christian Fellowship Church":MAILTO:sec@riveroflifecfc.org
END:VEVENT
BEGIN:VEVENT
DTSTART;TZID=America/New_York:20310202T100000
DTEND;TZID=America/New_York:20310202T120000
DTSTAMP:20260423T060338
CREATED:20251108T014036Z
LAST-MODIFIED:20260402T020402Z
UID:10000857-1927792800-1927800000@riveroflifecfc.org
SUMMARY:River Of Life Sunday Church Service
DESCRIPTION:River Of Life Sunday Church Service
URL:https://riveroflifecfc.org/event/river-of-life-sunday-church-service/2031-02-02/
LOCATION:Candlewood Hotel\, 4216 Old Philadephia Road\, Bel Air\, MD\, 21015\, United States
CATEGORIES:Church,Service
ORGANIZER;CN="River Of Life Christian Fellowship Church":MAILTO:sec@riveroflifecfc.org
END:VEVENT
BEGIN:VEVENT
DTSTART;TZID=America/New_York:20310209T100000
DTEND;TZID=America/New_York:20310209T120000
DTSTAMP:20260423T060338
CREATED:20251108T014036Z
LAST-MODIFIED:20260402T020402Z
UID:10000858-1928397600-1928404800@riveroflifecfc.org
SUMMARY:River Of Life Sunday Church Service
DESCRIPTION:River Of Life Sunday Church Service
URL:https://riveroflifecfc.org/event/river-of-life-sunday-church-service/2031-02-09/
LOCATION:Candlewood Hotel\, 4216 Old Philadephia Road\, Bel Air\, MD\, 21015\, United States
CATEGORIES:Church,Service
ORGANIZER;CN="River Of Life Christian Fellowship Church":MAILTO:sec@riveroflifecfc.org
END:VEVENT
BEGIN:VEVENT
DTSTART;TZID=America/New_York:20310216T100000
DTEND;TZID=America/New_York:20310216T120000
DTSTAMP:20260423T060338
CREATED:20251108T014036Z
LAST-MODIFIED:20260402T020402Z
UID:10000859-1929002400-1929009600@riveroflifecfc.org
SUMMARY:River Of Life Sunday Church Service
DESCRIPTION:River Of Life Sunday Church Service
URL:https://riveroflifecfc.org/event/river-of-life-sunday-church-service/2031-02-16/
LOCATION:Candlewood Hotel\, 4216 Old Philadephia Road\, Bel Air\, MD\, 21015\, United States
CATEGORIES:Church,Service
ORGANIZER;CN="River Of Life Christian Fellowship Church":MAILTO:sec@riveroflifecfc.org
END:VEVENT
BEGIN:VEVENT
DTSTART;TZID=America/New_York:20310223T100000
DTEND;TZID=America/New_York:20310223T120000
DTSTAMP:20260423T060338
CREATED:20251108T014036Z
LAST-MODIFIED:20260402T020402Z
UID:10000860-1929607200-1929614400@riveroflifecfc.org
SUMMARY:River Of Life Sunday Church Service
DESCRIPTION:River Of Life Sunday Church Service
URL:https://riveroflifecfc.org/event/river-of-life-sunday-church-service/2031-02-23/
LOCATION:Candlewood Hotel\, 4216 Old Philadephia Road\, Bel Air\, MD\, 21015\, United States
CATEGORIES:Church,Service
ORGANIZER;CN="River Of Life Christian Fellowship Church":MAILTO:sec@riveroflifecfc.org
END:VEVENT
BEGIN:VEVENT
DTSTART;TZID=America/New_York:20310302T100000
DTEND;TZID=America/New_York:20310302T120000
DTSTAMP:20260423T060338
CREATED:20251108T014036Z
LAST-MODIFIED:20260402T020402Z
UID:10000861-1930212000-1930219200@riveroflifecfc.org
SUMMARY:River Of Life Sunday Church Service
DESCRIPTION:River Of Life Sunday Church Service
URL:https://riveroflifecfc.org/event/river-of-life-sunday-church-service/2031-03-02/
LOCATION:Candlewood Hotel\, 4216 Old Philadephia Road\, Bel Air\, MD\, 21015\, United States
CATEGORIES:Church,Service
ORGANIZER;CN="River Of Life Christian Fellowship Church":MAILTO:sec@riveroflifecfc.org
END:VEVENT
BEGIN:VEVENT
DTSTART;TZID=America/New_York:20310309T100000
DTEND;TZID=America/New_York:20310309T120000
DTSTAMP:20260423T060338
CREATED:20251108T014036Z
LAST-MODIFIED:20260402T020402Z
UID:10000862-1930816800-1930824000@riveroflifecfc.org
SUMMARY:River Of Life Sunday Church Service
DESCRIPTION:River Of Life Sunday Church Service
URL:https://riveroflifecfc.org/event/river-of-life-sunday-church-service/2031-03-09/
LOCATION:Candlewood Hotel\, 4216 Old Philadephia Road\, Bel Air\, MD\, 21015\, United States
CATEGORIES:Church,Service
ORGANIZER;CN="River Of Life Christian Fellowship Church":MAILTO:sec@riveroflifecfc.org
END:VEVENT
BEGIN:VEVENT
DTSTART;TZID=America/New_York:20310316T100000
DTEND;TZID=America/New_York:20310316T120000
DTSTAMP:20260423T060338
CREATED:20251108T014036Z
LAST-MODIFIED:20260402T020402Z
UID:10000863-1931421600-1931428800@riveroflifecfc.org
SUMMARY:River Of Life Sunday Church Service
DESCRIPTION:River Of Life Sunday Church Service
URL:https://riveroflifecfc.org/event/river-of-life-sunday-church-service/2031-03-16/
LOCATION:Candlewood Hotel\, 4216 Old Philadephia Road\, Bel Air\, MD\, 21015\, United States
CATEGORIES:Church,Service
ORGANIZER;CN="River Of Life Christian Fellowship Church":MAILTO:sec@riveroflifecfc.org
END:VEVENT
BEGIN:VEVENT
DTSTART;TZID=America/New_York:20310323T100000
DTEND;TZID=America/New_York:20310323T120000
DTSTAMP:20260423T060338
CREATED:20251108T014036Z
LAST-MODIFIED:20260402T020402Z
UID:10000864-1932026400-1932033600@riveroflifecfc.org
SUMMARY:River Of Life Sunday Church Service
DESCRIPTION:River Of Life Sunday Church Service
URL:https://riveroflifecfc.org/event/river-of-life-sunday-church-service/2031-03-23/
LOCATION:Candlewood Hotel\, 4216 Old Philadephia Road\, Bel Air\, MD\, 21015\, United States
CATEGORIES:Church,Service
ORGANIZER;CN="River Of Life Christian Fellowship Church":MAILTO:sec@riveroflifecfc.org
END:VEVENT
BEGIN:VEVENT
DTSTART;TZID=America/New_York:20310330T100000
DTEND;TZID=America/New_York:20310330T120000
DTSTAMP:20260423T060338
CREATED:20251108T014036Z
LAST-MODIFIED:20260402T020402Z
UID:10000865-1932631200-1932638400@riveroflifecfc.org
SUMMARY:River Of Life Sunday Church Service
DESCRIPTION:River Of Life Sunday Church Service
URL:https://riveroflifecfc.org/event/river-of-life-sunday-church-service/2031-03-30/
LOCATION:Candlewood Hotel\, 4216 Old Philadephia Road\, Bel Air\, MD\, 21015\, United States
CATEGORIES:Church,Service
ORGANIZER;CN="River Of Life Christian Fellowship Church":MAILTO:sec@riveroflifecfc.org
END:VEVENT
END:VCALENDAR